BEGIN:VCALENDAR
VERSION:2.0
PRODID:-//InvisionCommunity Events 4.7.14//EN
METHOD:PUBLISH
CALSCALE:GREGORIAN
REFRESH-INTERVAL:PT15M
X-PUBLISHED-TTL:PT15M
X-WR-CALNAME:The Elder Scrolls Online
NAME:The Elder Scrolls Online
BEGIN:VTIMEZONE
TZID:Europe/London
TZURL:http://tzurl.org/zoneinfo/Europe/London
X-LIC-LOCATION:Europe/London
BEGIN:DAYLIGHT
TZOFFSETFROM:+0000
TZOFFSETTO:+0100
TZNAME:BST
DTSTART:20200329T020000Z
RRULE:FREQ=YEARLY;BYMONTH=3;BYDAY=-1SU
END:DAYLIGHT
BEGIN:STANDARD
TZOFFSETFROM:+0100
TZOFFSETTO:+0000
TZNAME:GMT
DTSTART:20201025T020000Z
RRULE:FREQ=YEARLY;BYMONTH=10;BYDAY=-1SU
END:STANDARD
END:VTIMEZONE
BEGIN:VEVENT
SUMMARY:Учебный vAS (открытый рейд статика
	 Firefly)
DTSTAMP:20200611T041701Z
SEQUENCE:2
UID:7279-1-afb15bc42254ad5fb0481ce5e9c8144d@forum.bandits-clan.ru
ORGANIZER;CN="Alex_Stamm":web@bandits-clan.ru
DESCRIPTION:Приглашаю посетить
	 обучающий рейд в ветеранский 
	Asylum Sanctorium при поддержке с
	татика Firefly.  Общие требован
	ияЗвание Raider+\nОт 600 C
	P\nВозможность присутст
	вовать в ТС\n \nТребова
	ния для ДД Только ra
	nge DD! Иными словами\
	, дамажить придё
	тся на дистанции 
	и в движении\, та
	к что билды\, з
	аточенные под кукл
	у или ближний бой НЕ подо
	йдут. Кто нужен:1 хил\n1 танк\n5-6 ДД
	\n\nНаличие аддонов Asylum Tracker и Asylum Sanctoriu
	m Status Panel обязательн
	о!    \nПишит
	е в коммент
	ариях свою
	 роль. Обя
	зательно
	 подтверж
	дайте свое 
	участие! О
	пределение
	 конкретног
	о состава р
	ейда остаётс
	я за РЛ.В зависимос
	ти от конкретного состава 
	группы мы пойдём или в vAS+0\, ил
	и в vAS+1. Сбор в 20-50 МСК в гильдхоле и ТС\,
	 канал Firefly
DTSTART:20200612T180000Z
ATTENDEE;CN="BanditAsar";CUTYPE=INDIVIDUAL;PARTSTAT=ACCEPTED
	:web@bandits-clan.ru
ATTENDEE;CN="Alex_Stamm";CUTYPE=INDIVIDUAL;PARTSTAT=ACCEPTED
	:web@bandits-clan.ru
ATTENDEE;CN="VladRevenant";CUTYPE=INDIVIDUAL;PARTSTAT=ACCEPT
	ED:web@bandits-clan.ru
ATTENDEE;CN="Ingolanto";CUTYPE=INDIVIDUAL;PARTSTAT=ACCEPTED:
	web@bandits-clan.ru
ATTENDEE;CN="Semeckiy ";CUTYPE=INDIVIDUAL;PARTSTAT=ACCEPTED:
	web@bandits-clan.ru
ATTENDEE;CN="Razfallo";CUTYPE=INDIVIDUAL;PARTSTAT=ACCEPTED:w
	eb@bandits-clan.ru
ATTENDEE;CN="vonabol88";CUTYPE=INDIVIDUAL;PARTSTAT=ACCEPTED:
	web@bandits-clan.ru
ATTENDEE;CN="Forxros";CUTYPE=INDIVIDUAL;PARTSTAT=ACCEPTED:we
	b@bandits-clan.ru
ATTENDEE;CN="Александр57";CUTYPE=INDIVIDUAL;PARTSTA
	T=ACCEPTED:web@bandits-clan.ru
END:VEVENT
END:VCALENDAR
