BEGIN:VCALENDAR
VERSION:2.0
PRODID:-//InvisionCommunity Events 4.7.14//EN
METHOD:PUBLISH
CALSCALE:GREGORIAN
REFRESH-INTERVAL:PT15M
X-PUBLISHED-TTL:PT15M
X-WR-CALNAME:The Elder Scrolls Online
NAME:The Elder Scrolls Online
BEGIN:VTIMEZONE
TZID:Europe/London
TZURL:http://tzurl.org/zoneinfo/Europe/London
X-LIC-LOCATION:Europe/London
BEGIN:DAYLIGHT
TZOFFSETFROM:+0000
TZOFFSETTO:+0100
TZNAME:BST
DTSTART:20200329T020000Z
RRULE:FREQ=YEARLY;BYMONTH=3;BYDAY=-1SU
END:DAYLIGHT
BEGIN:STANDARD
TZOFFSETFROM:+0100
TZOFFSETTO:+0000
TZNAME:GMT
DTSTART:20201025T020000Z
RRULE:FREQ=YEARLY;BYMONTH=10;BYDAY=-1SU
END:STANDARD
END:VTIMEZONE
BEGIN:VEVENT
SUMMARY:(TESO) Боссы и бури Западного Скайр
	има
DTSTAMP:20200608T022912Z
SEQUENCE:0
UID:7271-1-afb15bc42254ad5fb0481ce5e9c8144d@forum.bandits-clan.ru
ORGANIZER;CN="Bandit":web@bandits-clan.ru
DESCRIPTION:С 12 00 по Мск 
	Приглашаю вс
	ех желающих 0
	+ уровень пр
	исоединить
	ся к забегу 
	по мировым б
	оссам и мра
	чным бурям 
	Западного 
	Скайрима и
	 Черного пре
	дела. Требуе
	тся глава Гре
	ймур. Пофарми
	м всякие плюшк
	и\, сделаем еж
	едневки\, з
	акроем ачивк
	у. Толпой и ба
	тьку бить весе
	лее! Хорошее настроение. тим
	спик\, табарды. Дпс и уровень не важны!
DTSTART:20200614T090000Z
END:VEVENT
END:VCALENDAR
