BEGIN:VCALENDAR
VERSION:2.0
PRODID:-//InvisionCommunity Events 4.7.14//EN
METHOD:PUBLISH
CALSCALE:GREGORIAN
REFRESH-INTERVAL:PT15M
X-PUBLISHED-TTL:PT15M
X-WR-CALNAME:The Elder Scrolls Online
NAME:The Elder Scrolls Online
BEGIN:VTIMEZONE
TZID:Europe/London
TZURL:http://tzurl.org/zoneinfo/Europe/London
X-LIC-LOCATION:Europe/London
BEGIN:DAYLIGHT
TZOFFSETFROM:+0000
TZOFFSETTO:+0100
TZNAME:BST
DTSTART:20200329T020000Z
RRULE:FREQ=YEARLY;BYMONTH=3;BYDAY=-1SU
END:DAYLIGHT
BEGIN:STANDARD
TZOFFSETFROM:+0100
TZOFFSETTO:+0000
TZNAME:GMT
DTSTART:20201025T020000Z
RRULE:FREQ=YEARLY;BYMONTH=10;BYDAY=-1SU
END:STANDARD
END:VTIMEZONE
BEGIN:VEVENT
SUMMARY:(TESO) Мир приключений Тамриэл
	я. Игра-квест.
DTSTAMP:20200607T093738Z
SEQUENCE:0
UID:7269-1-afb15bc42254ad5fb0481ce5e9c8144d@forum.bandits-clan.ru
ORGANIZER;CN="Bandit":web@bandits-clan.ru
DESCRIPTION:С 14 00 по Мск Не
	вероятные\, 
	ужасные. пре
	красные\, за
	бавные и уди
	вительные п
	риключения жду
	т вас! Весь Там
	риэль у ваших н
	ог! Спасите д
	ракона\, убе
	йте нетча В
	илкой щеко
	тки\, раскрой
	те преступл
	ение или послужите принцу Д
	аэдра! Тимспик\, канал Мир Приключений.
DTSTART:20200614T110000Z
END:VEVENT
END:VCALENDAR
