BEGIN:VCALENDAR
VERSION:2.0
PRODID:-//InvisionCommunity Events 4.7.14//EN
METHOD:PUBLISH
CALSCALE:GREGORIAN
REFRESH-INTERVAL:PT15M
X-PUBLISHED-TTL:PT15M
X-WR-CALNAME:The Elder Scrolls Online
NAME:The Elder Scrolls Online
BEGIN:VTIMEZONE
TZID:Europe/London
TZURL:http://tzurl.org/zoneinfo/Europe/London
X-LIC-LOCATION:Europe/London
BEGIN:DAYLIGHT
TZOFFSETFROM:+0000
TZOFFSETTO:+0100
TZNAME:BST
DTSTART:20200329T020000Z
RRULE:FREQ=YEARLY;BYMONTH=3;BYDAY=-1SU
END:DAYLIGHT
BEGIN:STANDARD
TZOFFSETFROM:+0100
TZOFFSETTO:+0000
TZNAME:GMT
DTSTART:20201025T020000Z
RRULE:FREQ=YEARLY;BYMONTH=10;BYDAY=-1SU
END:STANDARD
END:VTIMEZONE
BEGIN:VEVENT
SUMMARY:[TESO] ПВП Имперская канализация \"Im
	perial Sewers\"
DTSTAMP:20200602T110610Z
SEQUENCE:0
UID:7253-1-afb15bc42254ad5fb0481ce5e9c8144d@forum.bandits-clan.ru
ORGANIZER;CN="Anioto":web@bandits-clan.ru
DESCRIPTION: ИДЕМ в К
	анализацию 
	имперского го
	рода (по пути б
	удем убивать 
	боссов и собира
	ть скайшарды и т
	.д а главной из
	юминкой будет
	 Молаг Бал  ) Во 
	время забега н
	аходится в Ти
	мСпике (Обязат
	ельно)\, не 
	забываем
	 про Табар
	д гильдии.
	 Бегаем з
	а Ковенан
	т Даггерф
	ол Кампания Чем
	пионская (хотя б
	удем смотреть по 
	количеству) Уров
	ень 10+\, шмотки по своему усмотрению\, ж
	естких правил нет.
DTSTART:20200603T163000Z
END:VEVENT
END:VCALENDAR
