BEGIN:VCALENDAR
VERSION:2.0
PRODID:-//InvisionCommunity Events 4.7.14//EN
METHOD:PUBLISH
CALSCALE:GREGORIAN
REFRESH-INTERVAL:PT15M
X-PUBLISHED-TTL:PT15M
X-WR-CALNAME:The Elder Scrolls Online
NAME:The Elder Scrolls Online
BEGIN:VTIMEZONE
TZID:Europe/London
TZURL:http://tzurl.org/zoneinfo/Europe/London
X-LIC-LOCATION:Europe/London
BEGIN:DAYLIGHT
TZOFFSETFROM:+0000
TZOFFSETTO:+0100
TZNAME:BST
DTSTART:20200329T020000Z
RRULE:FREQ=YEARLY;BYMONTH=3;BYDAY=-1SU
END:DAYLIGHT
BEGIN:STANDARD
TZOFFSETFROM:+0100
TZOFFSETTO:+0000
TZNAME:GMT
DTSTART:20201025T020000Z
RRULE:FREQ=YEARLY;BYMONTH=10;BYDAY=-1SU
END:STANDARD
END:VTIMEZONE
BEGIN:VEVENT
SUMMARY:[FFXIV] Фарм маунтов A Realm Reborn
DTSTAMP:20200531T201444Z
SEQUENCE:0
UID:7235-1-afb15bc42254ad5fb0481ce5e9c8144d@forum.bandits-clan.ru
ORGANIZER;CN="Irdis":web@bandits-clan.ru
DESCRIPTION:Приглашаю
	 всех желаю
	щих в течение дн
	я пофармить маунтов из э
	кстрим-триалов оригинально
	й A Realm Reborn. За сбор в
	сех 7 лошаде
	й можно получ
	ить в награду леге
	ндарного коня - Кирина Тре
	бования: \nПройден сюжет A Realm 
	Reborn для доступа к extr
	eme-версиям триалов (опцио
	нально пройти сюжет до He
	avensward\, чтобы открыть
	 все имеющиеся тр
	иалы)\nПерсонаж 50+ 
	уровня В любое время пишите мн
	е в игре или дискорде 
DTSTART;VALUE=DATE:20200603
END:VEVENT
END:VCALENDAR
