BEGIN:VCALENDAR
VERSION:2.0
PRODID:-//InvisionCommunity Events 4.7.14//EN
METHOD:PUBLISH
CALSCALE:GREGORIAN
REFRESH-INTERVAL:PT15M
X-PUBLISHED-TTL:PT15M
X-WR-CALNAME:The Elder Scrolls Online
NAME:The Elder Scrolls Online
BEGIN:VTIMEZONE
TZID:Europe/London
TZURL:http://tzurl.org/zoneinfo/Europe/London
X-LIC-LOCATION:Europe/London
BEGIN:DAYLIGHT
TZOFFSETFROM:+0000
TZOFFSETTO:+0100
TZNAME:BST
DTSTART:20200329T020000Z
RRULE:FREQ=YEARLY;BYMONTH=3;BYDAY=-1SU
END:DAYLIGHT
BEGIN:STANDARD
TZOFFSETFROM:+0100
TZOFFSETTO:+0000
TZNAME:GMT
DTSTART:20201025T020000Z
RRULE:FREQ=YEARLY;BYMONTH=10;BYDAY=-1SU
END:STANDARD
END:VTIMEZONE
BEGIN:VEVENT
SUMMARY:[TESO] Рейд статика \"Back To Reality\"
DTSTAMP:20200531T073223Z
SEQUENCE:0
UID:7226-1-afb15bc42254ad5fb0481ce5e9c8144d@forum.bandits-clan.ru
ORGANIZER;CN="I am ready to die":web@bandits-clan.ru
DESCRIPTION:Рейд Статик \"Back To Reality\
	" 19:00 (мск) Продолжите
	льность события 2-3 ча
	са. Быть в тс и гильдхол
	е в 18:50 в Бандитских таб
	ардах\, рейд эквипе\
	, с бустами (еда\
	, банки) и ремон
	тными комплектами\, и хорош
	им настроением. Тема статика : http://forum.bandi
	ts...showtopic=70500
DTSTART:20200630T160000Z
END:VEVENT
END:VCALENDAR
