BEGIN:VCALENDAR
VERSION:2.0
PRODID:-//InvisionCommunity Events 4.7.14//EN
METHOD:PUBLISH
CALSCALE:GREGORIAN
REFRESH-INTERVAL:PT15M
X-PUBLISHED-TTL:PT15M
X-WR-CALNAME:The Elder Scrolls Online
NAME:The Elder Scrolls Online
BEGIN:VTIMEZONE
TZID:Europe/London
TZURL:http://tzurl.org/zoneinfo/Europe/London
X-LIC-LOCATION:Europe/London
BEGIN:DAYLIGHT
TZOFFSETFROM:+0000
TZOFFSETTO:+0100
TZNAME:BST
DTSTART:20200329T020000Z
RRULE:FREQ=YEARLY;BYMONTH=3;BYDAY=-1SU
END:DAYLIGHT
BEGIN:STANDARD
TZOFFSETFROM:+0100
TZOFFSETTO:+0000
TZNAME:GMT
DTSTART:20201025T020000Z
RRULE:FREQ=YEARLY;BYMONTH=10;BYDAY=-1SU
END:STANDARD
END:VTIMEZONE
BEGIN:VEVENT
SUMMARY:(TESO) вет МоЛ (Пасть лоркхаджа)
DTSTAMP:20200525T155517Z
SEQUENCE:0
UID:7203-1-afb15bc42254ad5fb0481ce5e9c8144d@forum.bandits-clan.ru
ORGANIZER;CN="Bandit":web@bandits-clan.ru
DESCRIPTION:\nС прошлой группо
	й мы все закрыли и ачив
	ки получили...\n \nНо
	 наши руки не для
	 скуки! И мы сно
	ва пойдем надергаем 
	усов с черного\, б
	елого и папки Ракха
	та. С 17 00 по Мск Д
	ополнение Гильд
	ия воров Нужно: 12
	 человек в звании
	 от Бандит+ (приоритет
	 на опыт и более высо
	кий дпс) 2 танка\, 2 хи
	лера\, остальные - дд Тимспик\, табарды\
	, сбор в гх
DTSTART:20200601T140000Z
ATTENDEE;CN="Bandit";CUTYPE=INDIVIDUAL;PARTSTAT=ACCEPTED:web
	@bandits-clan.ru
ATTENDEE;CN="octopus_d";CUTYPE=INDIVIDUAL;PARTSTAT=ACCEPTED:
	web@bandits-clan.ru
ATTENDEE;CN="Thilse";CUTYPE=INDIVIDUAL;PARTSTAT=ACCEPTED:web
	@bandits-clan.ru
ATTENDEE;CN="armares";CUTYPE=INDIVIDUAL;PARTSTAT=ACCEPTED:we
	b@bandits-clan.ru
ATTENDEE;CN="Chezanah";CUTYPE=INDIVIDUAL;PARTSTAT=ACCEPTED:w
	eb@bandits-clan.ru
ATTENDEE;CN="Azzadal";CUTYPE=INDIVIDUAL;PARTSTAT=ACCEPTED:we
	b@bandits-clan.ru
ATTENDEE;CN="Дэйф";CUTYPE=INDIVIDUAL;PARTSTAT=ACCEPTED:w
	eb@bandits-clan.ru
ATTENDEE;CN="Veerbat";CUTYPE=INDIVIDUAL;PARTSTAT=ACCEPTED:we
	b@bandits-clan.ru
ATTENDEE;CN="#ifndef";CUTYPE=INDIVIDUAL;PARTSTAT=ACCEPTED:we
	b@bandits-clan.ru
ATTENDEE;CN="Eddyst";CUTYPE=INDIVIDUAL;PARTSTAT=ACCEPTED:web
	@bandits-clan.ru
ATTENDEE;CN="Reyesa";CUTYPE=INDIVIDUAL;PARTSTAT=ACCEPTED:web
	@bandits-clan.ru
ATTENDEE;CN="Verellon";CUTYPE=INDIVIDUAL;PARTSTAT=ACCEPTED:w
	eb@bandits-clan.ru
ATTENDEE;CN="Александр57";CUTYPE=INDIVIDUAL;PARTSTA
	T=ACCEPTED:web@bandits-clan.ru
ATTENDEE;CN="Aktarios";CUTYPE=INDIVIDUAL;PARTSTAT=ACCEPTED:w
	eb@bandits-clan.ru
END:VEVENT
END:VCALENDAR
