BEGIN:VCALENDAR
VERSION:2.0
PRODID:-//InvisionCommunity Events 4.7.14//EN
METHOD:PUBLISH
CALSCALE:GREGORIAN
REFRESH-INTERVAL:PT15M
X-PUBLISHED-TTL:PT15M
X-WR-CALNAME:The Elder Scrolls Online
NAME:The Elder Scrolls Online
BEGIN:VTIMEZONE
TZID:Europe/London
TZURL:http://tzurl.org/zoneinfo/Europe/London
X-LIC-LOCATION:Europe/London
BEGIN:DAYLIGHT
TZOFFSETFROM:+0000
TZOFFSETTO:+0100
TZNAME:BST
DTSTART:20200329T020000Z
RRULE:FREQ=YEARLY;BYMONTH=3;BYDAY=-1SU
END:DAYLIGHT
BEGIN:STANDARD
TZOFFSETFROM:+0100
TZOFFSETTO:+0000
TZNAME:GMT
DTSTART:20201025T020000Z
RRULE:FREQ=YEARLY;BYMONTH=10;BYDAY=-1SU
END:STANDARD
END:VTIMEZONE
BEGIN:VEVENT
SUMMARY:[FFXIV] Поиск Сокровищ
DTSTAMP:20200524T173150Z
SEQUENCE:0
UID:7194-1-afb15bc42254ad5fb0481ce5e9c8144d@forum.bandits-clan.ru
ORGANIZER;CN="Irdis":web@bandits-clan.ru
DESCRIPTION:Вы не ждали\,
	 а оно пришл
	о Погружаем
	ся в глубины 
	рандома\, в 
	надежде выт
	ащить несметны
	е горы золота и
	з каждого портал
	а. Требования:\nПерс
	онаж 70 уровня или 
	выше\nЛимит групп
	ы - 8 человек. Ес
	ли желающих б
	удет больше - р
	азделимся на разные г
	руппы. Рекомендации:\
	nПройден сюжет Stormblood 
	для доступа ко всем 
	локациям\nХотя бы 2 (боль
	ше - лучше) карты сокровищ\, в приорит
	ете Timeworn Gazelleskin Map (с вы
	соким шансом м
	ожно собрать 
	из залежей 
	ресурсов 70 уров
	ня или купить на
	 маркетборде) Прод
	олжительность:\n2-3 часа или пока 
	не кончатся карты http://1.bp.blogspot.com/--Nk7v_yfZBs/Ts
	FbLeS64lI/AAAAAAAAAEo/driXyeu4XDU/s1600/treasuremaplarge.jpg
DTSTART:20200530T170000Z
ATTENDEE;CN="Irdis";CUTYPE=INDIVIDUAL;PARTSTAT=ACCEPTED:web@
	bandits-clan.ru
ATTENDEE;CN="RockDT";CUTYPE=INDIVIDUAL;PARTSTAT=ACCEPTED:web
	@bandits-clan.ru
ATTENDEE;CN="Linderwood";CUTYPE=INDIVIDUAL;PARTSTAT=ACCEPTED
	:web@bandits-clan.ru
ATTENDEE;CN="Ven_Lin";CUTYPE=INDIVIDUAL;PARTSTAT=ACCEPTED:we
	b@bandits-clan.ru
END:VEVENT
END:VCALENDAR
