BEGIN:VCALENDAR
VERSION:2.0
PRODID:-//InvisionCommunity Events 4.7.14//EN
METHOD:PUBLISH
CALSCALE:GREGORIAN
REFRESH-INTERVAL:PT15M
X-PUBLISHED-TTL:PT15M
X-WR-CALNAME:The Elder Scrolls Online
NAME:The Elder Scrolls Online
BEGIN:VTIMEZONE
TZID:Europe/London
TZURL:http://tzurl.org/zoneinfo/Europe/London
X-LIC-LOCATION:Europe/London
BEGIN:DAYLIGHT
TZOFFSETFROM:+0000
TZOFFSETTO:+0100
TZNAME:BST
DTSTART:20200329T020000Z
RRULE:FREQ=YEARLY;BYMONTH=3;BYDAY=-1SU
END:DAYLIGHT
BEGIN:STANDARD
TZOFFSETFROM:+0100
TZOFFSETTO:+0000
TZNAME:GMT
DTSTART:20201025T020000Z
RRULE:FREQ=YEARLY;BYMONTH=10;BYDAY=-1SU
END:STANDARD
END:VTIMEZONE
BEGIN:VEVENT
SUMMARY:[TESO] Учебный нормал триал Кра
	глорна на выбор
DTSTAMP:20200524T090043Z
SEQUENCE:2
UID:7173-1-afb15bc42254ad5fb0481ce5e9c8144d@forum.bandits-clan.ru
ORGANIZER;CN="Winchester":web@bandits-clan.ru
DESCRIPTION:Что? Этерианск
	ий Архив / Санктум
	-Офидия / Цитадель Х
	ель-Ра - на выбор группы. Можно даж
	е два подряд \nГде? Grand Topal Hideaw
	ay. Для того\, чтобы 
	туда попасть\, необх
	одимо в ростере Гильди
	и найти @Kibert и посетить её 
	дом.\nКогда? Начало
	 события: 13:00 по м
	ск. Ориентиро
	вочная длите
	льность собы
	тия: 1 час. Ц
	ель: обуч
	ить нови
	чков тактик
	е прохождения данного
	 триала. Требования:Ми
	нимальное звание: Thief/Soldie
	r\nМинимальный уровень: 160 cp\nОдет
	ая накидка Гильдии Daggerfall/Vanguard/Rising Bandits
	\nTeamSpeak\n\nВ случае 
	успешного п
	рохождения
	\, всем про
	шедшим будет п
	оставлена отметка в 
	списке представителей Ги
	льдии. \n1-2 танка\, 2 хи
	ла\, 8-9 дд будут 
	для нас идеал
	ьным составом
	. Приоритет для 
	игроков\, котор
	ые ни разу не п
	осещали данн
	ый триал и те
	х\, кому нео
	бходима отметка 
	о прохождении. Пи
	шите в комментариях
	 свою роль и Ваш UserID
	. Приходите заранее\, берегите свои и чу
	жие нервы.
DTSTART:20200531T100000Z
ATTENDEE;CN="Winchester";CUTYPE=INDIVIDUAL;PARTSTAT=ACCEPTED
	:web@bandits-clan.ru
ATTENDEE;CN="Agitator";CUTYPE=INDIVIDUAL;PARTSTAT=ACCEPTED:w
	eb@bandits-clan.ru
ATTENDEE;CN="IlyaOps";CUTYPE=INDIVIDUAL;PARTSTAT=ACCEPTED:we
	b@bandits-clan.ru
ATTENDEE;CN="ZeroSixth";CUTYPE=INDIVIDUAL;PARTSTAT=ACCEPTED:
	web@bandits-clan.ru
ATTENDEE;CN="FJlitkom";CUTYPE=INDIVIDUAL;PARTSTAT=ACCEPTED:w
	eb@bandits-clan.ru
ATTENDEE;CN="Shenyin";CUTYPE=INDIVIDUAL;PARTSTAT=ACCEPTED:we
	b@bandits-clan.ru
ATTENDEE;CN="antixrizt";CUTYPE=INDIVIDUAL;PARTSTAT=ACCEPTED:
	web@bandits-clan.ru
ATTENDEE;CN="Jekson_GWTB";CUTYPE=INDIVIDUAL;PARTSTAT=ACCEPTE
	D:web@bandits-clan.ru
ATTENDEE;CN="Ezergil";CUTYPE=INDIVIDUAL;PARTSTAT=ACCEPTED:we
	b@bandits-clan.ru
ATTENDEE;CN="frar1cks";CUTYPE=INDIVIDUAL;PARTSTAT=ACCEPTED:w
	eb@bandits-clan.ru
ATTENDEE;CN="simonk579";CUTYPE=INDIVIDUAL;PARTSTAT=ACCEPTED:
	web@bandits-clan.ru
ATTENDEE;CN="medovuha";CUTYPE=INDIVIDUAL;PARTSTAT=ACCEPTED:w
	eb@bandits-clan.ru
ATTENDEE;CN="Aeteri";CUTYPE=INDIVIDUAL;PARTSTAT=ACCEPTED:web
	@bandits-clan.ru
ATTENDEE;CN="octopus_d";CUTYPE=INDIVIDUAL;PARTSTAT=ACCEPTED:
	web@bandits-clan.ru
END:VEVENT
END:VCALENDAR
