BEGIN:VCALENDAR
VERSION:2.0
PRODID:-//InvisionCommunity Events 4.7.14//EN
METHOD:PUBLISH
CALSCALE:GREGORIAN
REFRESH-INTERVAL:PT15M
X-PUBLISHED-TTL:PT15M
X-WR-CALNAME:The Elder Scrolls Online
NAME:The Elder Scrolls Online
BEGIN:VTIMEZONE
TZID:Europe/London
TZURL:http://tzurl.org/zoneinfo/Europe/London
X-LIC-LOCATION:Europe/London
BEGIN:DAYLIGHT
TZOFFSETFROM:+0000
TZOFFSETTO:+0100
TZNAME:BST
DTSTART:20200329T020000Z
RRULE:FREQ=YEARLY;BYMONTH=3;BYDAY=-1SU
END:DAYLIGHT
BEGIN:STANDARD
TZOFFSETFROM:+0100
TZOFFSETTO:+0000
TZNAME:GMT
DTSTART:20201025T020000Z
RRULE:FREQ=YEARLY;BYMONTH=10;BYDAY=-1SU
END:STANDARD
END:VTIMEZONE
BEGIN:VEVENT
SUMMARY:[FFXIV] Поиск сокровищ
DTSTAMP:20200517T203543Z
SEQUENCE:0
UID:7148-1-afb15bc42254ad5fb0481ce5e9c8144d@forum.bandits-clan.ru
ORGANIZER;CN="Irdis":web@bandits-clan.ru
DESCRIPTION:Вы не ждали\, а
	 оно пришло\n\n
	Погружаемся 
	в глубины ран
	дома\, в над
	ежде вытащи
	ть несметные г
	оры золота из ка
	ждого портала. Треб
	ования:\nПерсонаж 70
	 уровня или выше\nЛ
	имит группы - 8 
	человек. Есл
	и желающих бу
	дет больше - раз
	делимся на разные гру
	ппы. Рекомендации:\nПр
	ойден сюжет Stormblood для 
	доступа ко всем лока
	циям\nХотя бы 2 (больше - луч
	ше) карты сокровищ\, в приоритете Ti
	meworn Gazelleskin Map (с высок
	им шансом можн
	о собрать из 
	залежей ресур
	сов 70 уровня или 
	купить на марке
	тборде) Продолжительнос
	ть:\n2-3 часа или пока не кончатся карты http
	://1.bp.blogspot.com/--Nk7v_yfZBs/TsFbLeS64lI/AAAAAAAAAEo/driXyeu4XDU/s160
	0/treasuremaplarge.jpg
DTSTART:20200523T170000Z
ATTENDEE;CN="Irdis";CUTYPE=INDIVIDUAL;PARTSTAT=ACCEPTED:web@
	bandits-clan.ru
ATTENDEE;CN="Linderwood";CUTYPE=INDIVIDUAL;PARTSTAT=ACCEPTED
	:web@bandits-clan.ru
END:VEVENT
END:VCALENDAR
