BEGIN:VCALENDAR
VERSION:2.0
PRODID:-//InvisionCommunity Events 4.7.14//EN
METHOD:PUBLISH
CALSCALE:GREGORIAN
REFRESH-INTERVAL:PT15M
X-PUBLISHED-TTL:PT15M
X-WR-CALNAME:The Elder Scrolls Online
NAME:The Elder Scrolls Online
BEGIN:VTIMEZONE
TZID:Europe/London
TZURL:http://tzurl.org/zoneinfo/Europe/London
X-LIC-LOCATION:Europe/London
BEGIN:DAYLIGHT
TZOFFSETFROM:+0000
TZOFFSETTO:+0100
TZNAME:BST
DTSTART:20200329T020000Z
RRULE:FREQ=YEARLY;BYMONTH=3;BYDAY=-1SU
END:DAYLIGHT
BEGIN:STANDARD
TZOFFSETFROM:+0100
TZOFFSETTO:+0000
TZNAME:GMT
DTSTART:20201025T020000Z
RRULE:FREQ=YEARLY;BYMONTH=10;BYDAY=-1SU
END:STANDARD
END:VTIMEZONE
BEGIN:VEVENT
SUMMARY:[TESO] Обучающая nBRP ( тюрьма Чёрн
	ая Роза )
DTSTAMP:20200514T062954Z
SEQUENCE:2
UID:7139-1-afb15bc42254ad5fb0481ce5e9c8144d@forum.bandits-clan.ru
ORGANIZER;CN="Moxna-tka":web@bandits-clan.ru
DESCRIPTION:Начало в 20:00
	 по МСК Приглаш
	аются все желающие\, под
	ходящие по требованиям: Звание:
	 Thief ( Вор )+ \nНаличие TeamSp
	eak и возможность слушать р
	ейд-лидера\nНаличие подписки (ESO+) и
	ли DLC Murkmire\n \nНужны:  1 Танк\, 1 Х
	ил\, 2 DD (я выберу
	 роль в зависим
	ости от пришедших л
	юдей) Пишите в коммент
	ариях: роль и ID Сбор 
	в ГХ за 5-10 минут\, наличие Таб
	арда и необходимых расходников.   
DTSTART:20200517T170000Z
ATTENDEE;CN="Murzzikk";CUTYPE=INDIVIDUAL;PARTSTAT=ACCEPTED:w
	eb@bandits-clan.ru
ATTENDEE;CN="Moxna-tka";CUTYPE=INDIVIDUAL;PARTSTAT=ACCEPTED:
	web@bandits-clan.ru
ATTENDEE;CN="Atomic_90";CUTYPE=INDIVIDUAL;PARTSTAT=ACCEPTED:
	web@bandits-clan.ru
ATTENDEE;CN="armares";CUTYPE=INDIVIDUAL;PARTSTAT=ACCEPTED:we
	b@bandits-clan.ru
ATTENDEE;CN="Moxnatochka";CUTYPE=INDIVIDUAL;PARTSTAT=ACCEPTE
	D:web@bandits-clan.ru
ATTENDEE;CN="reddarkest";CUTYPE=INDIVIDUAL;PARTSTAT=ACCEPTED
	:web@bandits-clan.ru
END:VEVENT
END:VCALENDAR
