BEGIN:VCALENDAR
VERSION:2.0
PRODID:-//InvisionCommunity Events 4.7.14//EN
METHOD:PUBLISH
CALSCALE:GREGORIAN
REFRESH-INTERVAL:PT15M
X-PUBLISHED-TTL:PT15M
X-WR-CALNAME:The Elder Scrolls Online
NAME:The Elder Scrolls Online
BEGIN:VTIMEZONE
TZID:Europe/London
TZURL:http://tzurl.org/zoneinfo/Europe/London
X-LIC-LOCATION:Europe/London
BEGIN:DAYLIGHT
TZOFFSETFROM:+0000
TZOFFSETTO:+0100
TZNAME:BST
DTSTART:20200329T020000Z
RRULE:FREQ=YEARLY;BYMONTH=3;BYDAY=-1SU
END:DAYLIGHT
BEGIN:STANDARD
TZOFFSETFROM:+0100
TZOFFSETTO:+0000
TZNAME:GMT
DTSTART:20201025T020000Z
RRULE:FREQ=YEARLY;BYMONTH=10;BYDAY=-1SU
END:STANDARD
END:VTIMEZONE
BEGIN:VEVENT
SUMMARY:[TESO] Учебный nCR+3
DTSTAMP:20200513T081604Z
SEQUENCE:0
UID:7138-1-afb15bc42254ad5fb0481ce5e9c8144d@forum.bandits-clan.ru
ORGANIZER;CN="Winchester":web@bandits-clan.ru
DESCRIPTION:Что? Cloudrest normal mode +3.\nГде? Grand Topal Hide
	away. Для того\, чтоб
	ы туда попасть\, необ
	ходимо в ростере Гильд
	ии найти @Kibert и посетить её
	 дом.\nКогда? Начало
	 события: 19:30 по м
	ск. Ориентиро
	вочная длите
	льность собы
	тия: 1 час. Ц
	ель: обучить н
	овичков тактике 
	прохождения данн
	ого триала. Требования:
	DLC \"Саммерсет\"\nОтмет
	ка о прохождении nCR+0 (в
	озможны исключения)\nМи
	нимальное звание: Thief/Soldie
	r\nМинимальный уровень: 160 cp\nОдет
	ая накидка Гильдии Daggerfall/Vanguard/Rising Bandits
	\nTeamSpeak\n\nВ случае 
	успешного п
	рохождения
	\, всем про
	шедшим будет
	 поставлена отметка
	 в списке представите
	лей Гильдии. 2 танка
	\, 2 хила\, 8 дд буд
	ут для нас иде
	альным соста
	вом. Приоритет
	 для игроков\, ко
	торые ни разу н
	е посещали да
	нный триал и 
	тех\, кому н
	еобходима отме
	тка о прохождении
	. Пишите в коммента
	риях свою роль и Ваш
	 UserID. Приходите заранее\, берегите с
	вои и чужие нервы.
DTSTART:20200515T163000Z
ATTENDEE;CN="heorinmaru";CUTYPE=INDIVIDUAL;PARTSTAT=ACCEPTED
	:web@bandits-clan.ru
ATTENDEE;CN="Winchester";CUTYPE=INDIVIDUAL;PARTSTAT=ACCEPTED
	:web@bandits-clan.ru
ATTENDEE;CN="Thilse";CUTYPE=INDIVIDUAL;PARTSTAT=ACCEPTED:web
	@bandits-clan.ru
ATTENDEE;CN="Wipno";CUTYPE=INDIVIDUAL;PARTSTAT=ACCEPTED:web@
	bandits-clan.ru
ATTENDEE;CN="Verellon";CUTYPE=INDIVIDUAL;PARTSTAT=ACCEPTED:w
	eb@bandits-clan.ru
ATTENDEE;CN="Atomic_90";CUTYPE=INDIVIDUAL;PARTSTAT=ACCEPTED:
	web@bandits-clan.ru
ATTENDEE;CN="Ingolanto";CUTYPE=INDIVIDUAL;PARTSTAT=ACCEPTED:
	web@bandits-clan.ru
ATTENDEE;CN="Jekson_GWTB";CUTYPE=INDIVIDUAL;PARTSTAT=ACCEPTE
	D:web@bandits-clan.ru
ATTENDEE;CN="reddarkest";CUTYPE=INDIVIDUAL;PARTSTAT=ACCEPTED
	:web@bandits-clan.ru
ATTENDEE;CN="CyberLy";CUTYPE=INDIVIDUAL;PARTSTAT=ACCEPTED:we
	b@bandits-clan.ru
ATTENDEE;CN="Kifirchik ( Владимир)";CUTYPE=INDIVIDUA
	L;PARTSTAT=ACCEPTED:web@bandits-clan.ru
ATTENDEE;CN="IlyaOps";CUTYPE=INDIVIDUAL;PARTSTAT=ACCEPTED:we
	b@bandits-clan.ru
END:VEVENT
END:VCALENDAR
