BEGIN:VCALENDAR
VERSION:2.0
PRODID:-//InvisionCommunity Events 4.7.14//EN
METHOD:PUBLISH
CALSCALE:GREGORIAN
REFRESH-INTERVAL:PT15M
X-PUBLISHED-TTL:PT15M
X-WR-CALNAME:The Elder Scrolls Online
NAME:The Elder Scrolls Online
BEGIN:VTIMEZONE
TZID:Europe/London
TZURL:http://tzurl.org/zoneinfo/Europe/London
X-LIC-LOCATION:Europe/London
BEGIN:DAYLIGHT
TZOFFSETFROM:+0000
TZOFFSETTO:+0100
TZNAME:BST
DTSTART:20200329T020000Z
RRULE:FREQ=YEARLY;BYMONTH=3;BYDAY=-1SU
END:DAYLIGHT
BEGIN:STANDARD
TZOFFSETFROM:+0100
TZOFFSETTO:+0000
TZNAME:GMT
DTSTART:20201025T020000Z
RRULE:FREQ=YEARLY;BYMONTH=10;BYDAY=-1SU
END:STANDARD
END:VTIMEZONE
BEGIN:VEVENT
SUMMARY:(TESO) Фантастические твари. Игра (
	0+лвл)
DTSTAMP:20200511T093620Z
SEQUENCE:0
UID:7126-1-afb15bc42254ad5fb0481ce5e9c8144d@forum.bandits-clan.ru
ORGANIZER;CN="Bandit":web@bandits-clan.ru
DESCRIPTION:С 14 00 по Мс
	к Приглаш
	аю всех жел
	ающих пора
	звлечься и о
	тдохнуть от
	 триалов и по
	дземелий! На
	ш старый зна
	комый - незад
	ачливый учени
	к мага из Гильд
	ии снова натвор
	ил дел! В этот
	 раз его повоз
	ка\, которая
	 везла кле
	тки с удивит
	ельными животны
	ми со всех концо
	в Тамриэля переве
	рнулась и... В обще
	м\, на вас ложит
	ся нелегкая з
	адача - найт
	и и собрать 
	в клетки всех
	 фантастическ
	их тварей за огр
	аниченное время. 
	Призы - всем уч
	астникам! Тем. кт
	о успел вперед 
	всех - дополнительные призы!!! 
	Тимспик\, канал Котелок Налькарии.
DTSTART:20200516T110000Z
ATTENDEE;CN="Bandit";CUTYPE=INDIVIDUAL;PARTSTAT=ACCEPTED:web
	@bandits-clan.ru
END:VEVENT
END:VCALENDAR
