BEGIN:VCALENDAR
VERSION:2.0
PRODID:-//InvisionCommunity Events 4.7.14//EN
METHOD:PUBLISH
CALSCALE:GREGORIAN
REFRESH-INTERVAL:PT15M
X-PUBLISHED-TTL:PT15M
X-WR-CALNAME:The Elder Scrolls Online
NAME:The Elder Scrolls Online
BEGIN:VTIMEZONE
TZID:Europe/London
TZURL:http://tzurl.org/zoneinfo/Europe/London
X-LIC-LOCATION:Europe/London
BEGIN:DAYLIGHT
TZOFFSETFROM:+0000
TZOFFSETTO:+0100
TZNAME:BST
DTSTART:20200329T020000Z
RRULE:FREQ=YEARLY;BYMONTH=3;BYDAY=-1SU
END:DAYLIGHT
BEGIN:STANDARD
TZOFFSETFROM:+0100
TZOFFSETTO:+0000
TZNAME:GMT
DTSTART:20201025T020000Z
RRULE:FREQ=YEARLY;BYMONTH=10;BYDAY=-1SU
END:STANDARD
END:VTIMEZONE
BEGIN:VEVENT
SUMMARY:(TESO) Stalhrim Warriors New Trial PTS
DTSTAMP:20200506T122246Z
SEQUENCE:0
UID:7110-1-afb15bc42254ad5fb0481ce5e9c8144d@forum.bandits-clan.ru
ORGANIZER;CN="Dveller":web@bandits-clan.ru
DESCRIPTION:Продолжае
	м освоение нового
	 триала\, приорит
	ет трэш паки по
	сле 2 босса и ла
	ст босс.  Для
	 участников
	 приоритет 
	составу ста
	тика\, при 
	недоборе
	 будут пр
	иглашены
	 первые з
	аписавшиеся
	 в событие. 
	Необходимо
	 наличие уст
	ановленного 
	ПТС сервера\
	, и созданн
	ый дееспос
	обный персонаж (в
	 прошлом обновлении переместили 
	всех имеющихся на ПТС)
DTSTART:20200510T080000Z
ATTENDEE;CN="Dveller";CUTYPE=INDIVIDUAL;PARTSTAT=ACCEPTED:we
	b@bandits-clan.ru
ATTENDEE;CN="BadassLoaderBot";CUTYPE=INDIVIDUAL;PARTSTAT=ACC
	EPTED:web@bandits-clan.ru
END:VEVENT
END:VCALENDAR
