BEGIN:VCALENDAR
VERSION:2.0
PRODID:-//InvisionCommunity Events 4.7.14//EN
METHOD:PUBLISH
CALSCALE:GREGORIAN
REFRESH-INTERVAL:PT15M
X-PUBLISHED-TTL:PT15M
X-WR-CALNAME:The Elder Scrolls Online
NAME:The Elder Scrolls Online
BEGIN:VTIMEZONE
TZID:Europe/London
TZURL:http://tzurl.org/zoneinfo/Europe/London
X-LIC-LOCATION:Europe/London
BEGIN:DAYLIGHT
TZOFFSETFROM:+0000
TZOFFSETTO:+0100
TZNAME:BST
DTSTART:20200329T020000Z
RRULE:FREQ=YEARLY;BYMONTH=3;BYDAY=-1SU
END:DAYLIGHT
BEGIN:STANDARD
TZOFFSETFROM:+0100
TZOFFSETTO:+0000
TZNAME:GMT
DTSTART:20201025T020000Z
RRULE:FREQ=YEARLY;BYMONTH=10;BYDAY=-1SU
END:STANDARD
END:VTIMEZONE
BEGIN:VEVENT
SUMMARY:[TESO] Учебный vAA
DTSTAMP:20200504T113746Z
SEQUENCE:0
UID:7101-1-afb15bc42254ad5fb0481ce5e9c8144d@forum.bandits-clan.ru
ORGANIZER;CN="Winchester":web@bandits-clan.ru
DESCRIPTION:Что? Aetherian Archive veteran mode.\nГде? Grand Topal
	 Hideaway. Для того\, чт
	обы туда попасть\, н
	еобходимо в ростере Г
	ильдии найти @Kibert и посет
	ить её дом.\nКогда? 
	Начало события: 19:
	00 по мск. Ориен
	тировочная д
	лительность 
	события: 1 ча
	с. Цель: о
	бучить 
	новичко
	в тактике прох
	ождения данного т
	риала. Требования:Мин
	имальное звание: Raide
	r\nОтметка о закр
	ытии nAA в сост
	аве гильдии\nМи
	нимальная аттестац
	ия на свою роль\nМинимал
	ьный уровень: 160 cp\nОдетая накидка Гильди
	и Daggerfall/Vanguard Bandits\nTeamSpeak\n\nВ 
	случае успе
	шного прохо
	ждения\, вс
	ем прошедшим
	 будет поставлена
	 отметка в списке предс
	тавителей Гильдии. 1-2 
	танка\, 2 хила\, 8-9
	 дд будут для 
	нас идеальны
	м составом. П
	риоритет для игр
	оков\, которые н
	и разу не посе
	щали данный тр
	иал и тех\, к
	ому необход
	има отметка о прох
	ождении. Пишите в 
	комментариях свою р
	оль и Ваш UserID. Приходите заранее
	\, берегите свои и чужие нервы.
DTSTART:20200505T160000Z
ATTENDEE;CN="Winchester";CUTYPE=INDIVIDUAL;PARTSTAT=ACCEPTED
	:web@bandits-clan.ru
ATTENDEE;CN="Thilse";CUTYPE=INDIVIDUAL;PARTSTAT=ACCEPTED:web
	@bandits-clan.ru
ATTENDEE;CN="Gym4ik";CUTYPE=INDIVIDUAL;PARTSTAT=ACCEPTED:web
	@bandits-clan.ru
ATTENDEE;CN="Morik";CUTYPE=INDIVIDUAL;PARTSTAT=ACCEPTED:web@
	bandits-clan.ru
ATTENDEE;CN="rdk";CUTYPE=INDIVIDUAL;PARTSTAT=ACCEPTED:web@ba
	ndits-clan.ru
ATTENDEE;CN="octopus_d";CUTYPE=INDIVIDUAL;PARTSTAT=ACCEPTED:
	web@bandits-clan.ru
ATTENDEE;CN="Xapym";CUTYPE=INDIVIDUAL;PARTSTAT=ACCEPTED:web@
	bandits-clan.ru
ATTENDEE;CN="Murzzikk";CUTYPE=INDIVIDUAL;PARTSTAT=ACCEPTED:w
	eb@bandits-clan.ru
ATTENDEE;CN="Legrat";CUTYPE=INDIVIDUAL;PARTSTAT=ACCEPTED:web
	@bandits-clan.ru
ATTENDEE;CN="Extenzer";CUTYPE=INDIVIDUAL;PARTSTAT=ACCEPTED:w
	eb@bandits-clan.ru
ATTENDEE;CN="plag85";CUTYPE=INDIVIDUAL;PARTSTAT=ACCEPTED:web
	@bandits-clan.ru
ATTENDEE;CN="Azzadal";CUTYPE=INDIVIDUAL;PARTSTAT=ACCEPTED:we
	b@bandits-clan.ru
END:VEVENT
END:VCALENDAR
