BEGIN:VCALENDAR
VERSION:2.0
PRODID:-//InvisionCommunity Events 4.7.14//EN
METHOD:PUBLISH
CALSCALE:GREGORIAN
REFRESH-INTERVAL:PT15M
X-PUBLISHED-TTL:PT15M
X-WR-CALNAME:The Elder Scrolls Online
NAME:The Elder Scrolls Online
BEGIN:VTIMEZONE
TZID:Europe/London
TZURL:http://tzurl.org/zoneinfo/Europe/London
X-LIC-LOCATION:Europe/London
BEGIN:DAYLIGHT
TZOFFSETFROM:+0000
TZOFFSETTO:+0100
TZNAME:BST
DTSTART:20200329T020000Z
RRULE:FREQ=YEARLY;BYMONTH=3;BYDAY=-1SU
END:DAYLIGHT
BEGIN:STANDARD
TZOFFSETFROM:+0100
TZOFFSETTO:+0000
TZNAME:GMT
DTSTART:20201025T020000Z
RRULE:FREQ=YEARLY;BYMONTH=10;BYDAY=-1SU
END:STANDARD
END:VTIMEZONE
BEGIN:VEVENT
SUMMARY:(TESO) СКАЧКИ!!! Ипподром работает
DTSTAMP:20200504T035818Z
SEQUENCE:0
UID:7097-1-afb15bc42254ad5fb0481ce5e9c8144d@forum.bandits-clan.ru
ORGANIZER;CN="Bandit":web@bandits-clan.ru
DESCRIPTION:С 14 00 по Мск
	 Приглашаем 
	всех принять 
	участие в за
	ездах нашего
	 ипподрома в Си
	родииле!\nВы мо
	жете участвов
	ать или делат
	ь ставки\, а т
	акже болеть 
	за своего нае
	здника! Запи
	сывайтесь\, как
	 участники\, п
	олучайте номе
	р и выиграйте 
	игровое золото
	! (общий призовой 
	фонд - полмиллиона
	) Общие правила для
	 тех\, кто скачет:
	\n1. Всего про
	водится т
	ри заезда
	. Маршрут 
	оглашаетс
	я ведущим 
	перед непосред
	ственным начал
	ом заезда и меня
	ется в каждом за
	езде.\n2. Разрешено и
	спользовать баффы 
	от сетов\, чемпион
	ки\, скиллов.\n3. 
	Запрещено 
	участие и 
	помощь игро
	ков других 
	альянсов\, к
	роме Даггер
	фольского К
	овенанта. Ес
	ли участник
	 будет уличен
	 в сговоре с пр
	отивниками или
	 другими участник
	ами скачек - его 
	участие\, приз
	ы и места анну
	лируются.\n4.
	 Непосредс
	твенный участн
	ик скачек может дел
	ать ставки только 
	на свою победу\, 
	не на проигрыш.
	\n5. При возник
	новении форс
	-мажорных обс
	тоятельств\, п
	риведших к сме
	рти персонажа\,
	 разрешен респа
	ун и старт с т
	ого же самого
	 места. При с
	мерти персона
	жа от вражеск
	ого нападения 
	- рестарт прои
	сходит с места
	\, которое указывае
	т ведущий (один из
	 ближайших фортов
	 на маршруте).\n6. 
	Участники и ве
	дущий находятся
	 в одной группе\, ч
	тобы видеть\, как пр
	оходит заезд. Для 
	тех\, кто делает с
	тавки:\n1. Нача
	ло ставок 
	происходит 
	в каждом за
	езде при ог
	лашении вед
	ущим номеро
	в участников
	\, перед огл
	ашением маршру
	та заезда. Окон
	чание приема с
	тавок оглашает
	ся ведущим.\n2.
	 Перед нача
	лом заезда
	 ставки выс
	ылаются на 
	почту ведущему с 
	пометками-номерами выбр
	анных вами участников (1\, 
	2\, или 3 (и далее)\, п
	ри ставках на 
	порядок - письмо 
	включает в себя порядок уча
	стников скачек\, например - 1-3-2\
	, 2-3-1 и т.п.))\n3. Ставка до
	лжна быть кратной 1000
	 золота (не принимаются
	 ставки такие\, как 14
	37 золота и т.п.
	). Размер ставк
	и ограничен 
	только вашим
	и финансовым
	и возможностя
	ми \n4. Разреша
	ется ставить
	 на нескольк
	их участнико
	в в первом и 
	третьем заезда
	х и на несколько
	 порядков во вт
	ором заезде од
	новременно.\n5.
	 Фонд выпла
	т формирует
	ся из всех п
	рисланных с
	тавок. Расч
	ет выигрыш
	ей произво
	дится по ф
	ормуле: о
	бщий фонд вып
	лат:минимальн
	ая ставка*коэф
	фициент выигр
	авшей ставки.\
	n6. Расчет и вы
	плата сыгравших 
	ставок производится
	 после каждого заезда
	.\n7. Джек-пот: в случа
	е\, если в заезд
	е ни одна ста
	вка не сыграла\, 
	выигрышный фонд
	 переносится на сл
	едующий заезд.\n8
	. В первом и треть
	ем заездах - ставки
	 делаются на побед
	ителя\, во втором
	 - на порядок\, в
	 котором прид
	ут к старту участники. Азар
	т и золото ждут вас на нашем ипподроме!!
DTSTART:20200517T110000Z
ATTENDEE;CN="Bandit";CUTYPE=INDIVIDUAL;PARTSTAT=ACCEPTED:web
	@bandits-clan.ru
ATTENDEE;CN="Aleksandr(Шилов)";CUTYPE=INDIVIDUAL;PARTST
	AT=ACCEPTED:web@bandits-clan.ru
ATTENDEE;CN="Amre";CUTYPE=INDIVIDUAL;PARTSTAT=ACCEPTED:web@b
	andits-clan.ru
ATTENDEE;CN="FaZer";CUTYPE=INDIVIDUAL;PARTSTAT=ACCEPTED:web@
	bandits-clan.ru
ATTENDEE;CN="Anioto";CUTYPE=INDIVIDUAL;PARTSTAT=ACCEPTED:web
	@bandits-clan.ru
END:VEVENT
END:VCALENDAR
