BEGIN:VCALENDAR
VERSION:2.0
PRODID:-//InvisionCommunity Events 4.7.14//EN
METHOD:PUBLISH
CALSCALE:GREGORIAN
REFRESH-INTERVAL:PT15M
X-PUBLISHED-TTL:PT15M
X-WR-CALNAME:The Elder Scrolls Online
NAME:The Elder Scrolls Online
BEGIN:VTIMEZONE
TZID:Europe/London
TZURL:http://tzurl.org/zoneinfo/Europe/London
X-LIC-LOCATION:Europe/London
BEGIN:DAYLIGHT
TZOFFSETFROM:+0000
TZOFFSETTO:+0100
TZNAME:BST
DTSTART:20200329T020000Z
RRULE:FREQ=YEARLY;BYMONTH=3;BYDAY=-1SU
END:DAYLIGHT
BEGIN:STANDARD
TZOFFSETFROM:+0100
TZOFFSETTO:+0000
TZNAME:GMT
DTSTART:20201025T020000Z
RRULE:FREQ=YEARLY;BYMONTH=10;BYDAY=-1SU
END:STANDARD
END:VTIMEZONE
BEGIN:VEVENT
SUMMARY:[TESO] ПВП Имперская канализация \"Im
	perial Sewers\"
DTSTAMP:20200503T200335Z
SEQUENCE:0
UID:7092-1-afb15bc42254ad5fb0481ce5e9c8144d@forum.bandits-clan.ru
ORGANIZER;CN="Anioto":web@bandits-clan.ru
DESCRIPTION:\nИДЕМ в Ка
	нализацию и
	мперского горо
	да (по пути буд
	ем убивать бо
	ссов и собирать ска
	йшарды и т.д а глав
	ной изюминкой буде
	т Молаг Бал  )\n\nВо 
	время забега н
	аходится в ТимСпи
	ке (Обязательно)\,
	 не забываем про 
	Табард гильдии.\
	n\nБегаем за Ко
	венант Дагге
	рфол\n\nКампания
	 Чемпионская (хотя б
	удем смотреть по ко
	личеству)\n\nУровень
	 10+\, шмотки по своему усмотрению\, 
	жестких правил нет.
DTSTART:20200506T163000Z
END:VEVENT
END:VCALENDAR
