BEGIN:VCALENDAR
VERSION:2.0
PRODID:-//InvisionCommunity Events 4.7.14//EN
METHOD:PUBLISH
CALSCALE:GREGORIAN
REFRESH-INTERVAL:PT15M
X-PUBLISHED-TTL:PT15M
X-WR-CALNAME:The Elder Scrolls Online
NAME:The Elder Scrolls Online
BEGIN:VTIMEZONE
TZID:Europe/London
TZURL:http://tzurl.org/zoneinfo/Europe/London
X-LIC-LOCATION:Europe/London
BEGIN:DAYLIGHT
TZOFFSETFROM:+0000
TZOFFSETTO:+0100
TZNAME:BST
DTSTART:20200329T020000Z
RRULE:FREQ=YEARLY;BYMONTH=3;BYDAY=-1SU
END:DAYLIGHT
BEGIN:STANDARD
TZOFFSETFROM:+0100
TZOFFSETTO:+0000
TZNAME:GMT
DTSTART:20201025T020000Z
RRULE:FREQ=YEARLY;BYMONTH=10;BYDAY=-1SU
END:STANDARD
END:VTIMEZONE
BEGIN:VEVENT
SUMMARY:[FFXIV] Treasure Hunting
DTSTAMP:20200419T144140Z
SEQUENCE:0
UID:6996-1-afb15bc42254ad5fb0481ce5e9c8144d@forum.bandits-clan.ru
ORGANIZER;CN="Irdis":web@bandits-clan.ru
DESCRIPTION:Погружаем
	ся в глубины 
	рандома\, в 
	надежде выт
	ащить несметны
	е горы золота из
	 каждого портала. 
	Требования:\nПерсон
	аж 70 уровня\nЛимит 
	группы - 8 челов
	ек. Если жел
	ающих будет б
	ольше - разделимся н
	а разные группы. Реком
	ендации:\nПройден сюжет S
	tormblood для доступа ко вс
	ем локациям\nХотя бы 2 (больше - л
	учше) карты сокровищ Timeworn Gaze
	lleskin Map (с высоким ша
	нсом можно со
	брать из зал
	ежей ресурсов 70
	 уровня или купи
	ть на маркетбор
	де) Продолжительность:\n2-3
	 часа или пока не кончатся карты http://1.bp.bl
	ogspot.com/--Nk7v_yfZBs/TsFbLeS64lI/AAAAAAAAAEo/driXyeu4XDU/s1600/treasure
	maplarge.jpg
DTSTART:20200425T170000Z
ATTENDEE;CN="Ven_Lin";CUTYPE=INDIVIDUAL;PARTSTAT=ACCEPTED:we
	b@bandits-clan.ru
ATTENDEE;CN="TricksteR ";CUTYPE=INDIVIDUAL;PARTSTAT=ACCEPTED
	:web@bandits-clan.ru
ATTENDEE;CN="Linderwood";CUTYPE=INDIVIDUAL;PARTSTAT=ACCEPTED
	:web@bandits-clan.ru
ATTENDEE;CN="RockDT";CUTYPE=INDIVIDUAL;PARTSTAT=ACCEPTED:web
	@bandits-clan.ru
END:VEVENT
END:VCALENDAR
