BEGIN:VCALENDAR
VERSION:2.0
PRODID:-//InvisionCommunity Events 4.7.14//EN
METHOD:PUBLISH
CALSCALE:GREGORIAN
REFRESH-INTERVAL:PT15M
X-PUBLISHED-TTL:PT15M
X-WR-CALNAME:The Elder Scrolls Online
NAME:The Elder Scrolls Online
BEGIN:VTIMEZONE
TZID:Europe/London
TZURL:http://tzurl.org/zoneinfo/Europe/London
X-LIC-LOCATION:Europe/London
BEGIN:DAYLIGHT
TZOFFSETFROM:+0000
TZOFFSETTO:+0100
TZNAME:BST
DTSTART:20200329T020000Z
RRULE:FREQ=YEARLY;BYMONTH=3;BYDAY=-1SU
END:DAYLIGHT
BEGIN:STANDARD
TZOFFSETFROM:+0100
TZOFFSETTO:+0000
TZNAME:GMT
DTSTART:20201025T020000Z
RRULE:FREQ=YEARLY;BYMONTH=10;BYDAY=-1SU
END:STANDARD
END:VTIMEZONE
BEGIN:VEVENT
SUMMARY:(TESO) Паблики Доминиона (0+ уровень)
DTSTAMP:20200413T091932Z
SEQUENCE:1
UID:6975-1-afb15bc42254ad5fb0481ce5e9c8144d@forum.bandits-clan.ru
ORGANIZER;CN="Bandit":web@bandits-clan.ru
DESCRIPTION:С 15 00 по Мс
	к Пригла
	шаю всех
	 желающи
	х пробежа
	ться по 
	публичны
	м подземе
	льям лока
	ций Альдмер
	ского доминио
	на и позакрывать 
	ачивки (собрать ска
	йшарды и очки навыко
	в). 0+ уровень\, шмот
	 не важен\, скилл 
	не важен. толп
	ой и батьку бить веселее\, к
	ак говорится. Можно твинками. Тимспик.
DTSTART:20200418T120000Z
END:VEVENT
END:VCALENDAR
