BEGIN:VCALENDAR
VERSION:2.0
PRODID:-//InvisionCommunity Events 4.7.14//EN
METHOD:PUBLISH
CALSCALE:GREGORIAN
REFRESH-INTERVAL:PT15M
X-PUBLISHED-TTL:PT15M
X-WR-CALNAME:The Elder Scrolls Online
NAME:The Elder Scrolls Online
BEGIN:VTIMEZONE
TZID:Europe/London
TZURL:http://tzurl.org/zoneinfo/Europe/London
X-LIC-LOCATION:Europe/London
BEGIN:DAYLIGHT
TZOFFSETFROM:+0000
TZOFFSETTO:+0100
TZNAME:BST
DTSTART:20200329T020000Z
RRULE:FREQ=YEARLY;BYMONTH=3;BYDAY=-1SU
END:DAYLIGHT
BEGIN:STANDARD
TZOFFSETFROM:+0100
TZOFFSETTO:+0000
TZNAME:GMT
DTSTART:20201025T020000Z
RRULE:FREQ=YEARLY;BYMONTH=10;BYDAY=-1SU
END:STANDARD
END:VTIMEZONE
BEGIN:VEVENT
SUMMARY:(TESO) День открытых дверей
DTSTAMP:20200410T043954Z
SEQUENCE:0
UID:6956-1-afb15bc42254ad5fb0481ce5e9c8144d@forum.bandits-clan.ru
ORGANIZER;CN="Bandit":web@bandits-clan.ru
DESCRIPTION:Дорогие игроки!
	 Клан Bandits совместно с Официа
	льная страница The Elder Scrolls ВКонт
	акте\, посвященная ММО Elder Scrolls Online (ht
	tps://vk.com/eso) протяг
	ивает рук
	у помощи 
	новичкам – о
	тправляйтесь на по
	иски приключений с опытны
	ми игроками!  12 апреля с 11:
	00 до 20:00 МСК офицеры и 
	участники клана Ba
	ndits помогут вам
	 научиться чему-то новому и
	 выполнить сложные задачи. Наш Discord: ht
	tps://discord.gg/KFCqfDY Вы сможет
	е:\nСразиться 
	с драконами 
	в Эльсвейре
	\nЗакрыть ге
	йзеры и поб
	едить боссо
	в Саммерсет
	а\nПобедить 
	мировых бос
	сах на любых
	 локациях\n
	Пройти подземел
	ья\nОбучиться иск
	усству дуэлей\nНа
	учиться основам
	 PvP (за Ковенант) и за
	крыть дольмены в
	 Сиродиле Помимо этого 
	Bandits готовы научить вас про
	ходить триалы (normal mo
	de): эта активность
	 предназначена дл
	я игроков\, имеющих
	 160+ Очков Чемпио
	на. Вас также ждут весел
	ые игры\, конкурсы и викторина
	 по лору The Elder Scrolls! О
	пытные игроки от
	ветят на ваши вопр
	осы по игре\, квеста
	м\, сетами и билд
	ам\, ремеслу и 
	крафту – люб
	ой\, даже сам
	ый сложный 
	вопрос не о
	станется б
	ез ответа! Ско
	рее подавайте заявки на уч
	астие и присоединяйтесь к игре: htt
	ps://discord.gg/KFCqfDY! Покорим Тамриэль вместе!
DTSTART:20200412T090000Z
END:VEVENT
END:VCALENDAR
