BEGIN:VCALENDAR
VERSION:2.0
PRODID:-//InvisionCommunity Events 4.7.14//EN
METHOD:PUBLISH
CALSCALE:GREGORIAN
REFRESH-INTERVAL:PT15M
X-PUBLISHED-TTL:PT15M
X-WR-CALNAME:The Elder Scrolls Online
NAME:The Elder Scrolls Online
BEGIN:VTIMEZONE
TZID:Europe/London
TZURL:http://tzurl.org/zoneinfo/Europe/London
X-LIC-LOCATION:Europe/London
BEGIN:DAYLIGHT
TZOFFSETFROM:+0000
TZOFFSETTO:+0100
TZNAME:BST
DTSTART:20200329T020000Z
RRULE:FREQ=YEARLY;BYMONTH=3;BYDAY=-1SU
END:DAYLIGHT
BEGIN:STANDARD
TZOFFSETFROM:+0100
TZOFFSETTO:+0000
TZNAME:GMT
DTSTART:20201025T020000Z
RRULE:FREQ=YEARLY;BYMONTH=10;BYDAY=-1SU
END:STANDARD
END:VTIMEZONE
BEGIN:VEVENT
SUMMARY:[FFXIV] Treasure Hunting
DTSTAMP:20200405T123913Z
SEQUENCE:2
UID:6939-1-afb15bc42254ad5fb0481ce5e9c8144d@forum.bandits-clan.ru
ORGANIZER;CN="Irdis":web@bandits-clan.ru
DESCRIPTION:Погружаем
	ся в глубины 
	рандома\, в наде
	жде вытащить не
	сметные горы золо
	та из каждого портала
	.\n\nТребования:\nПерсо
	наж 70 уровня\nЛимит
	 группы - 8 челов
	ек. Если желающи
	х будет больше - 
	разделимся на разные гру
	ппы.\n\nРекомендации:\nПр
	ойден сюжет Stormblood для 
	доступа ко всем локация
	м\nХотя бы 2 (больше - лучше) карты сокро
	вищ Timeworn Gazelleskin Map (с вы
	соким шансом м
	ожно собрать из з
	алежей ресурсов
	 70 уровня или купить 
	на маркетборде)\n\
	nПродолжительность:\n2-3 часа и
	ли пока не кончатся карты\n\nhttp://1.bp.blogspot.com
	/--Nk7v_yfZBs/TsFbLeS64lI/AAAAAAAAAEo/driXyeu4XDU/s1600/treasuremaplarge.j
	pg
DTSTART:20200411T170000Z
ATTENDEE;CN="DHollowDarg";CUTYPE=INDIVIDUAL;PARTSTAT=ACCEPTE
	D:web@bandits-clan.ru
ATTENDEE;CN="Irdis";CUTYPE=INDIVIDUAL;PARTSTAT=ACCEPTED:web@
	bandits-clan.ru
ATTENDEE;CN="RockDT";CUTYPE=INDIVIDUAL;PARTSTAT=ACCEPTED:web
	@bandits-clan.ru
ATTENDEE;CN="Arlekin";CUTYPE=INDIVIDUAL;PARTSTAT=ACCEPTED:we
	b@bandits-clan.ru
ATTENDEE;CN="Ven_Lin";CUTYPE=INDIVIDUAL;PARTSTAT=ACCEPTED:we
	b@bandits-clan.ru
ATTENDEE;CN="Linderwood";CUTYPE=INDIVIDUAL;PARTSTAT=ACCEPTED
	:web@bandits-clan.ru
ATTENDEE;CN="TricksteR ";CUTYPE=INDIVIDUAL;PARTSTAT=ACCEPTED
	:web@bandits-clan.ru
ATTENDEE;CN="Navael";CUTYPE=INDIVIDUAL;PARTSTAT=ACCEPTED:web
	@bandits-clan.ru
ATTENDEE;CN="Shadagar";CUTYPE=INDIVIDUAL;PARTSTAT=ACCEPTED:w
	eb@bandits-clan.ru
ATTENDEE;CN="Ilmater";CUTYPE=INDIVIDUAL;PARTSTAT=ACCEPTED:we
	b@bandits-clan.ru
END:VEVENT
END:VCALENDAR
