BEGIN:VCALENDAR
VERSION:2.0
PRODID:-//InvisionCommunity Events 4.7.14//EN
METHOD:PUBLISH
CALSCALE:GREGORIAN
REFRESH-INTERVAL:PT15M
X-PUBLISHED-TTL:PT15M
X-WR-CALNAME:The Elder Scrolls Online
NAME:The Elder Scrolls Online
BEGIN:VTIMEZONE
TZID:Europe/London
TZURL:http://tzurl.org/zoneinfo/Europe/London
X-LIC-LOCATION:Europe/London
BEGIN:DAYLIGHT
TZOFFSETFROM:+0000
TZOFFSETTO:+0100
TZNAME:BST
DTSTART:20200329T020000Z
RRULE:FREQ=YEARLY;BYMONTH=3;BYDAY=-1SU
END:DAYLIGHT
BEGIN:STANDARD
TZOFFSETFROM:+0100
TZOFFSETTO:+0000
TZNAME:GMT
DTSTART:20201025T020000Z
RRULE:FREQ=YEARLY;BYMONTH=10;BYDAY=-1SU
END:STANDARD
END:VTIMEZONE
BEGIN:VEVENT
SUMMARY:[TESO] Бойцовский клуб - Обучение ду
	элям
DTSTAMP:20200327T153321Z
SEQUENCE:0
UID:6882-1-afb15bc42254ad5fb0481ce5e9c8144d@forum.bandits-clan.ru
ORGANIZER;CN="Winchester":web@bandits-clan.ru
DESCRIPTION:Хочешь нау
	читься убивать 
	не только мобов
	 в подземельях?
	\nСобрать билд 
	для ПВП\, узна
	ть комбинаци
	и скилов для
	 своего класс
	а или комбинаци
	и\, которые может 
	использовать прот
	ивник?\nИли у тебя
	 уже все есть\, н
	о нужен опыт 
	и оценка со
	 стороны? При
	ходи к нам в 
	Бойцовский К
	луб! Обучающе
	е мероприятие\
	, без ограниче
	ний по уровням\,
	 любой желающий 
	может прийти и п
	олучить совет\
	, как ему лучше
	 себя вести\, 
	поговорить с д
	ругими дуэлянт
	ами и размять свои
	 руки в дуэлях   Да
	же если нужно вс
	е сделать с нуля
	 - мы поможем. 
	Кстати\, с по
	мощью Бойцовского Клуба ты сможешь
	 повысить звание в гильдии  
DTSTART:20200329T130000Z
ATTENDEE;CN="Winchester";CUTYPE=INDIVIDUAL;PARTSTAT=ACCEPTED
	:web@bandits-clan.ru
ATTENDEE;CN="arxangelden";CUTYPE=INDIVIDUAL;PARTSTAT=ACCEPTE
	D:web@bandits-clan.ru
ATTENDEE;CN="Mephystofel";CUTYPE=INDIVIDUAL;PARTSTAT=ACCEPTE
	D:web@bandits-clan.ru
ATTENDEE;CN="Fangerow";CUTYPE=INDIVIDUAL;PARTSTAT=ACCEPTED:w
	eb@bandits-clan.ru
END:VEVENT
END:VCALENDAR
