BEGIN:VCALENDAR
VERSION:2.0
PRODID:-//InvisionCommunity Events 4.7.14//EN
METHOD:PUBLISH
CALSCALE:GREGORIAN
REFRESH-INTERVAL:PT15M
X-PUBLISHED-TTL:PT15M
X-WR-CALNAME:The Elder Scrolls Online
NAME:The Elder Scrolls Online
BEGIN:VTIMEZONE
TZID:Europe/London
TZURL:http://tzurl.org/zoneinfo/Europe/London
X-LIC-LOCATION:Europe/London
BEGIN:DAYLIGHT
TZOFFSETFROM:+0000
TZOFFSETTO:+0100
TZNAME:BST
DTSTART:20200329T020000Z
RRULE:FREQ=YEARLY;BYMONTH=3;BYDAY=-1SU
END:DAYLIGHT
BEGIN:STANDARD
TZOFFSETFROM:+0100
TZOFFSETTO:+0000
TZNAME:GMT
DTSTART:20201025T020000Z
RRULE:FREQ=YEARLY;BYMONTH=10;BYDAY=-1SU
END:STANDARD
END:VTIMEZONE
BEGIN:VEVENT
SUMMARY:[GW2] Поход на Strike missions
DTSTAMP:20200319T161335Z
SEQUENCE:1
UID:6847-1-afb15bc42254ad5fb0481ce5e9c8144d@forum.bandits-clan.ru
ORGANIZER;CN="Mr Dno":web@bandits-clan.ru
DESCRIPTION:Приглашаю на гильде
	йный ивент :   Поход п
	о Strike миссиям \nОсновной ив
	ент - выполнение ачивок 
	на боссе Boneskinner. Б
	осс сложный! П
	рошу подготовиться
	 - посмотреть видосы\, по
	читать гайд на вики. Дата: 22.0
	3.2020 (воскресенье)\nВремя: 18.00 мск\
	nУсловия: наличие TeamSpeak\, 80 
	уровень\, экипировка н
	е ниже exotic по мете\, знание рота
	ции\, открыты локации Grothmar Valley и Bjora Mar
	ches (или есть Teleport to Friend).\
	nВнимание: для получени
	я дропа с сундуков нужно иметь мастери Re
	silience Essence Manipulation 2 уровня. Список Strike м
	иссий:https://wiki.guildwa.../Strike_Mission Strike Mission: Shiverp
	eaks Pass Strike Mission: Whisper of Jormag Boneskinner
DTSTART:20200322T150000Z
END:VEVENT
END:VCALENDAR
