BEGIN:VCALENDAR
VERSION:2.0
PRODID:-//InvisionCommunity Events 4.7.14//EN
METHOD:PUBLISH
CALSCALE:GREGORIAN
REFRESH-INTERVAL:PT15M
X-PUBLISHED-TTL:PT15M
X-WR-CALNAME:The Elder Scrolls Online
NAME:The Elder Scrolls Online
BEGIN:VTIMEZONE
TZID:Europe/London
TZURL:http://tzurl.org/zoneinfo/Europe/London
X-LIC-LOCATION:Europe/London
BEGIN:DAYLIGHT
TZOFFSETFROM:+0000
TZOFFSETTO:+0100
TZNAME:BST
DTSTART:20200329T020000Z
RRULE:FREQ=YEARLY;BYMONTH=3;BYDAY=-1SU
END:DAYLIGHT
BEGIN:STANDARD
TZOFFSETFROM:+0100
TZOFFSETTO:+0000
TZNAME:GMT
DTSTART:20201025T020000Z
RRULE:FREQ=YEARLY;BYMONTH=10;BYDAY=-1SU
END:STANDARD
END:VTIMEZONE
BEGIN:VEVENT
SUMMARY:[FFXIV] Ruby Weapon (Extreme) смотр\, практика
DTSTAMP:20200318T212619Z
SEQUENCE:2
UID:6845-1-afb15bc42254ad5fb0481ce5e9c8144d@forum.bandits-clan.ru
ORGANIZER;CN="Irdis":web@bandits-clan.ru
DESCRIPTION:Попробуем 
	собраться и по
	смотреть хай-е
	нд. Забьем сво
	и слоты по максиму
	му\, на остальное добе
	рем рандомов. Нужны 
	2 танка\, 2 хила и 4
	 дд\, просьба в ком
	ментарии указать клас
	с. Время сбора: 22.00. 
	Длительность: макси
	мум до 00.00\nЗаране
	е приготовьте
	 еду и банки\
	, можно обратиться 
	ко мне за всем необходимым Требова
	ния: Открыт Cinder Drift (Extreme)\n4
	70ilvl\nУбийст
	во соотв
	етствующего
	 манекена\nПредварительное озна
	комление с механиками босса\n\n  
DTSTART:20200320T190000Z
ATTENDEE;CN="Navael";CUTYPE=INDIVIDUAL;PARTSTAT=ACCEPTED:web
	@bandits-clan.ru
ATTENDEE;CN="Irdis";CUTYPE=INDIVIDUAL;PARTSTAT=ACCEPTED:web@
	bandits-clan.ru
ATTENDEE;CN="RockDT";CUTYPE=INDIVIDUAL;PARTSTAT=ACCEPTED:web
	@bandits-clan.ru
ATTENDEE;CN="Linderwood";CUTYPE=INDIVIDUAL;PARTSTAT=ACCEPTED
	:web@bandits-clan.ru
END:VEVENT
END:VCALENDAR
