BEGIN:VCALENDAR
VERSION:2.0
PRODID:-//InvisionCommunity Events 4.7.14//EN
METHOD:PUBLISH
CALSCALE:GREGORIAN
REFRESH-INTERVAL:PT15M
X-PUBLISHED-TTL:PT15M
X-WR-CALNAME:The Elder Scrolls Online
NAME:The Elder Scrolls Online
BEGIN:VTIMEZONE
TZID:Europe/London
TZURL:http://tzurl.org/zoneinfo/Europe/London
X-LIC-LOCATION:Europe/London
BEGIN:DAYLIGHT
TZOFFSETFROM:+0000
TZOFFSETTO:+0100
TZNAME:BST
DTSTART:20200329T020000Z
RRULE:FREQ=YEARLY;BYMONTH=3;BYDAY=-1SU
END:DAYLIGHT
BEGIN:STANDARD
TZOFFSETFROM:+0100
TZOFFSETTO:+0000
TZNAME:GMT
DTSTART:20201025T020000Z
RRULE:FREQ=YEARLY;BYMONTH=10;BYDAY=-1SU
END:STANDARD
END:VTIMEZONE
BEGIN:VEVENT
SUMMARY:(TESO) vMoL Weekly
DTSTAMP:20200314T201522Z
SEQUENCE:2
UID:6822-1-afb15bc42254ad5fb0481ce5e9c8144d@forum.bandits-clan.ru
ORGANIZER;CN="Alex_Stamm":web@bandits-clan.ru
DESCRIPTION:Утроба Лорхаджа (Maw of Lorkhaj
	) — WEEKLY!!!\nПригл
	ашаю закрыт
	ь викли МоЛа дл
	я получения со
	ответствующей
	 награды!\nТреб
	уются\n2 танка (
	опыт успешног
	о закрытия три
	ала на ветеран
	ке ОБЯЗАТЕЛЕН)\
	n2 хила (Желатель
	но: Холлоуфэнг/Олорим
	+Симфония и Ворм/Олор
	им+Симфония)\n8 ДД от 6
	50 ЧП со стабильны
	м ДПС не ниже 35 т
	ысяч ЭТО НЕ ФА
	РМОВЫЙ И НЕ УЧ
	ЕБНЫЙ ТРИАЛ! 
	ЭТО ВИКЛИ! Ц
	ель — закрыть т
	риал как можно 
	быстрее с наименьши
	м числом смертей!!! 
	 \nОТМЕТКА О ЗАК
	РЫТИИ vMoL КРАЙН
	Е ЖЕЛАТЕЛЬНА!!
	!         В коммент
	ариях пишем роль\, обязательно жмем 
	\"Подтвердить\". 
DTSTART:20200315T170000Z
ATTENDEE;CN="Alex_Stamm";CUTYPE=INDIVIDUAL;PARTSTAT=ACCEPTED
	:web@bandits-clan.ru
ATTENDEE;CN="Yonymoon";CUTYPE=INDIVIDUAL;PARTSTAT=ACCEPTED:w
	eb@bandits-clan.ru
ATTENDEE;CN="SlavSoul";CUTYPE=INDIVIDUAL;PARTSTAT=ACCEPTED:w
	eb@bandits-clan.ru
ATTENDEE;CN="Semeckiy ";CUTYPE=INDIVIDUAL;PARTSTAT=ACCEPTED:
	web@bandits-clan.ru
ATTENDEE;CN="BanditAsar";CUTYPE=INDIVIDUAL;PARTSTAT=ACCEPTED
	:web@bandits-clan.ru
ATTENDEE;CN="Razfallo";CUTYPE=INDIVIDUAL;PARTSTAT=ACCEPTED:w
	eb@bandits-clan.ru
ATTENDEE;CN="Дэйф";CUTYPE=INDIVIDUAL;PARTSTAT=ACCEPTED:w
	eb@bandits-clan.ru
ATTENDEE;CN="Kandibobier";CUTYPE=INDIVIDUAL;PARTSTAT=ACCEPTE
	D:web@bandits-clan.ru
ATTENDEE;CN="elena_hanemer";CUTYPE=INDIVIDUAL;PARTSTAT=ACCEP
	TED:web@bandits-clan.ru
END:VEVENT
END:VCALENDAR
