BEGIN:VCALENDAR
VERSION:2.0
PRODID:-//InvisionCommunity Events 4.7.14//EN
METHOD:PUBLISH
CALSCALE:GREGORIAN
REFRESH-INTERVAL:PT15M
X-PUBLISHED-TTL:PT15M
X-WR-CALNAME:The Elder Scrolls Online
NAME:The Elder Scrolls Online
BEGIN:VTIMEZONE
TZID:Europe/London
TZURL:http://tzurl.org/zoneinfo/Europe/London
X-LIC-LOCATION:Europe/London
BEGIN:DAYLIGHT
TZOFFSETFROM:+0000
TZOFFSETTO:+0100
TZNAME:BST
DTSTART:20200329T020000Z
RRULE:FREQ=YEARLY;BYMONTH=3;BYDAY=-1SU
END:DAYLIGHT
BEGIN:STANDARD
TZOFFSETFROM:+0100
TZOFFSETTO:+0000
TZNAME:GMT
DTSTART:20201025T020000Z
RRULE:FREQ=YEARLY;BYMONTH=10;BYDAY=-1SU
END:STANDARD
END:VTIMEZONE
BEGIN:VEVENT
SUMMARY:[TESO] Обучающий vAA (HM)
DTSTAMP:20200302T173203Z
SEQUENCE:2
UID:6763-1-afb15bc42254ad5fb0481ce5e9c8144d@forum.bandits-clan.ru
ORGANIZER;CN="Winchester":web@bandits-clan.ru
DESCRIPTION:Что? Aetherian Archive veteran mode.\nГде? Grand Topal
	 Hideaway. Для того\, чт
	обы туда попасть\, н
	еобходимо в ростере Г
	ильдии найти @Kibert и посет
	ить её дом.\nКогда? 
	Начало события: 14:
	00 по мск. Ориен
	тировочная д
	лительность 
	события: 1 ча
	с. Цель: о
	бучить 
	новичко
	в тактике прох
	ождения данного три
	ала. Требования:Минимально
	е звание: Raider для вета\, Band
	it для ХМ\nОтметка о
	 закрытии nAA в составе
	 гильдии.\nМинимальный уровен
	ь: 160 cp\nОдетая накидка Гильдии Daggerfall/Vanguard
	 Bandits\nTeamSpeak\n\nВ случае
	 успешного п
	рохождения
	\, всем про
	шедшим будет п
	оставлена отметка в 
	списке представителей Ги
	льдии. \n1-2 танка\, 2 хи
	ла\, 8-9 дд будут 
	для нас идеал
	ьным составом
	. Приоритет для 
	игроков\, котор
	ые ни разу не п
	осещали данн
	ый триал и те
	х\, кому нео
	бходима отметка 
	о прохождении. Пи
	шите в комментариях
	 свою роль и Ваш User
	ID. Приходите 
	заранее\, бере
	гите свои и чужи
	е нервы. Если соб
	ерется подходящая гру
	ппа (2 танка и 2 хила\, кото
	рые были на вете\, дд с дп
	с 30к+\, то закроем ХМ -
	 хардмод)\, если группа будет не подходя
	щей\, то просто вет.
DTSTART:20200308T110000Z
ATTENDEE;CN="Winchester";CUTYPE=INDIVIDUAL;PARTSTAT=ACCEPTED
	:web@bandits-clan.ru
ATTENDEE;CN="Veerbat";CUTYPE=INDIVIDUAL;PARTSTAT=ACCEPTED:we
	b@bandits-clan.ru
ATTENDEE;CN="Sousthar";CUTYPE=INDIVIDUAL;PARTSTAT=ACCEPTED:w
	eb@bandits-clan.ru
ATTENDEE;CN="Yonymoon";CUTYPE=INDIVIDUAL;PARTSTAT=ACCEPTED:w
	eb@bandits-clan.ru
ATTENDEE;CN="Necroblaster";CUTYPE=INDIVIDUAL;PARTSTAT=ACCEPT
	ED:web@bandits-clan.ru
ATTENDEE;CN="Eddyst";CUTYPE=INDIVIDUAL;PARTSTAT=ACCEPTED:web
	@bandits-clan.ru
ATTENDEE;CN="SlavSoul";CUTYPE=INDIVIDUAL;PARTSTAT=ACCEPTED:w
	eb@bandits-clan.ru
ATTENDEE;CN="Aristotel_1";CUTYPE=INDIVIDUAL;PARTSTAT=ACCEPTE
	D:web@bandits-clan.ru
ATTENDEE;CN="Larisa";CUTYPE=INDIVIDUAL;PARTSTAT=ACCEPTED:web
	@bandits-clan.ru
ATTENDEE;CN="Xapym";CUTYPE=INDIVIDUAL;PARTSTAT=ACCEPTED:web@
	bandits-clan.ru
ATTENDEE;CN="BadassLoaderBot";CUTYPE=INDIVIDUAL;PARTSTAT=ACC
	EPTED:web@bandits-clan.ru
ATTENDEE;CN="Atomic_90";CUTYPE=INDIVIDUAL;PARTSTAT=ACCEPTED:
	web@bandits-clan.ru
ATTENDEE;CN="rdk";CUTYPE=INDIVIDUAL;PARTSTAT=ACCEPTED:web@ba
	ndits-clan.ru
ATTENDEE;CN="Kandibobier";CUTYPE=INDIVIDUAL;PARTSTAT=ACCEPTE
	D:web@bandits-clan.ru
ATTENDEE;CN="KIdsOfZeuws";CUTYPE=INDIVIDUAL;PARTSTAT=ACCEPTE
	D:web@bandits-clan.ru
ATTENDEE;CN="DCorvin";CUTYPE=INDIVIDUAL;PARTSTAT=ACCEPTED:we
	b@bandits-clan.ru
ATTENDEE;CN="Fangerow";CUTYPE=INDIVIDUAL;PARTSTAT=ACCEPTED:w
	eb@bandits-clan.ru
ATTENDEE;CN="I am ready to die";CUTYPE=INDIVIDUAL;PARTSTAT=A
	CCEPTED:web@bandits-clan.ru
ATTENDEE;CN="Fyuri";CUTYPE=INDIVIDUAL;PARTSTAT=ACCEPTED:web@
	bandits-clan.ru
END:VEVENT
END:VCALENDAR
