BEGIN:VCALENDAR
VERSION:2.0
PRODID:-//InvisionCommunity Events 4.7.14//EN
METHOD:PUBLISH
CALSCALE:GREGORIAN
REFRESH-INTERVAL:PT15M
X-PUBLISHED-TTL:PT15M
X-WR-CALNAME:The Elder Scrolls Online
NAME:The Elder Scrolls Online
BEGIN:VTIMEZONE
TZID:Europe/London
TZURL:http://tzurl.org/zoneinfo/Europe/London
X-LIC-LOCATION:Europe/London
BEGIN:DAYLIGHT
TZOFFSETFROM:+0000
TZOFFSETTO:+0100
TZNAME:BST
DTSTART:20200329T020000Z
RRULE:FREQ=YEARLY;BYMONTH=3;BYDAY=-1SU
END:DAYLIGHT
BEGIN:STANDARD
TZOFFSETFROM:+0100
TZOFFSETTO:+0000
TZNAME:GMT
DTSTART:20201025T020000Z
RRULE:FREQ=YEARLY;BYMONTH=10;BYDAY=-1SU
END:STANDARD
END:VTIMEZONE
BEGIN:VEVENT
SUMMARY:(TESO) Боссы и гейзеры Саммерсета
DTSTAMP:20200301T175227Z
SEQUENCE:0
UID:6750-1-afb15bc42254ad5fb0481ce5e9c8144d@forum.bandits-clan.ru
ORGANIZER;CN="Bandit":web@bandits-clan.ru
DESCRIPTION:С 12 00 по Мск 
	Приглашаю в
	сех желающих 
	0+ уровень по
	закрывать бос
	сов и гейзеры
	 Саммерсета. По
	фармим ачивки 
	и мотивы\, хор
	ошо проведе
	м время\, пош
	арим друг друг
	у квесты. Требуе
	тся дополнение Сам
	мерсет. Шмот\, уро
	вень\, опыт не 
	важны\, главное - хорошее настроени
	е! Тимспик. Вместе веселее!
DTSTART:20200307T090000Z
END:VEVENT
END:VCALENDAR
