BEGIN:VCALENDAR
VERSION:2.0
PRODID:-//InvisionCommunity Events 4.7.14//EN
METHOD:PUBLISH
CALSCALE:GREGORIAN
REFRESH-INTERVAL:PT15M
X-PUBLISHED-TTL:PT15M
X-WR-CALNAME:The Elder Scrolls Online
NAME:The Elder Scrolls Online
BEGIN:VTIMEZONE
TZID:Europe/London
TZURL:http://tzurl.org/zoneinfo/Europe/London
X-LIC-LOCATION:Europe/London
BEGIN:DAYLIGHT
TZOFFSETFROM:+0000
TZOFFSETTO:+0100
TZNAME:BST
DTSTART:20200329T020000Z
RRULE:FREQ=YEARLY;BYMONTH=3;BYDAY=-1SU
END:DAYLIGHT
BEGIN:STANDARD
TZOFFSETFROM:+0100
TZOFFSETTO:+0000
TZNAME:GMT
DTSTART:20201025T020000Z
RRULE:FREQ=YEARLY;BYMONTH=10;BYDAY=-1SU
END:STANDARD
END:VTIMEZONE
BEGIN:VEVENT
SUMMARY:14:00 [GW2] забег по HP в локациях HOT и PO
	F
DTSTAMP:20200228T082632Z
SEQUENCE:0
UID:6738-1-afb15bc42254ad5fb0481ce5e9c8144d@forum.bandits-clan.ru
ORGANIZER;CN="Sin":web@bandits-clan.ru
DESCRIPTION:Забег по локациям 
	ХОТ и ПОФ за ХП! Пойдем в
	 субботу 14:00 по МСК. На
	чнем с ХОТ - так как 
	там сложнее в цело
	м\, потом перерыв
	 в 5 минут\, да
	лее ПОФ. Наст
	оятельно реко
	мендую открыть с
	тартовую локацию
	 в ХОТ\, чтобы не т
	ратить на это в
	ремя\, не задерж
	ивать сквад\, и
	ли подготовить
	 телепорт к дру
	гу. В ПОФ пой
	дем дружно из 
	гильд холла.
	 обязательно
	 нужно иметь д
	ополнения ПОФ 
	и ХОТ в противн
	ом случае Вас про
	сто не пустит. Есл
	и Вам нечего делать
	 и Вам не нужны ХП
	\, мы будем рады
	 компании и помощи\
	, возможно будем т
	равить анекдоты или
	 байки\, я хз    Сквад будет созд
	ан за 5 минут для инвайта /
	sjoin Sin.5306. Это мер
	оприятие н
	е ограничив
	ается каким-
	то конкретны
	м представи
	тельством\, та
	к что если ест
	ь знакомые к
	то хочет прис
	оединиться\, лич
	но мне кажется так
	 быстрее пройдем. 
	По поводу голоса\, 
	я хз как быть\, навер
	ное буду вещать одн
	овременно в 2-4 сервера xDD Но это уже
	 моя головная боль.
DTSTART;VALUE=DATE:20200229
END:VEVENT
END:VCALENDAR
