BEGIN:VCALENDAR
VERSION:2.0
PRODID:-//InvisionCommunity Events 4.7.14//EN
METHOD:PUBLISH
CALSCALE:GREGORIAN
REFRESH-INTERVAL:PT15M
X-PUBLISHED-TTL:PT15M
X-WR-CALNAME:The Elder Scrolls Online
NAME:The Elder Scrolls Online
BEGIN:VTIMEZONE
TZID:Europe/London
TZURL:http://tzurl.org/zoneinfo/Europe/London
X-LIC-LOCATION:Europe/London
BEGIN:DAYLIGHT
TZOFFSETFROM:+0000
TZOFFSETTO:+0100
TZNAME:BST
DTSTART:20200329T020000Z
RRULE:FREQ=YEARLY;BYMONTH=3;BYDAY=-1SU
END:DAYLIGHT
BEGIN:STANDARD
TZOFFSETFROM:+0100
TZOFFSETTO:+0000
TZNAME:GMT
DTSTART:20201025T020000Z
RRULE:FREQ=YEARLY;BYMONTH=10;BYDAY=-1SU
END:STANDARD
END:VTIMEZONE
BEGIN:VEVENT
SUMMARY:[TESO] ПВП Сиродиил \"Arena Gladiator's Proofs\"
DTSTAMP:20200223T080055Z
SEQUENCE:0
UID:6703-1-afb15bc42254ad5fb0481ce5e9c8144d@forum.bandits-clan.ru
ORGANIZER;CN="Anioto":web@bandits-clan.ru
DESCRIPTION:\n--- «Захв
	атить дев
	ять разли
	чных ресурсов
	» — различных объе
	ктов снабжения\, к
	онтролируемых враго
	м.\n\n--- Во время забе
	га находится в Т
	имСпике (\"Обязат
	ельно\" для того ч
	то бы услышать ко
	манду\, и вовремя 
	слинять от врага ) но и 
	не забываем про Табар
	д гильдии.\n\nБегаем ---\n\nЗа Ко
	венант Даггерфол\nКомпания -
	-Bahlokdaan--\nЛевел 10+ шмотк
	и по своему усмотрению жестких правил 
	нету
DTSTART:20200225T161000Z
END:VEVENT
END:VCALENDAR
