BEGIN:VCALENDAR
VERSION:2.0
PRODID:-//InvisionCommunity Events 4.7.14//EN
METHOD:PUBLISH
CALSCALE:GREGORIAN
REFRESH-INTERVAL:PT15M
X-PUBLISHED-TTL:PT15M
X-WR-CALNAME:The Elder Scrolls Online
NAME:The Elder Scrolls Online
BEGIN:VTIMEZONE
TZID:Europe/London
TZURL:http://tzurl.org/zoneinfo/Europe/London
X-LIC-LOCATION:Europe/London
BEGIN:DAYLIGHT
TZOFFSETFROM:+0000
TZOFFSETTO:+0100
TZNAME:BST
DTSTART:20200329T020000Z
RRULE:FREQ=YEARLY;BYMONTH=3;BYDAY=-1SU
END:DAYLIGHT
BEGIN:STANDARD
TZOFFSETFROM:+0100
TZOFFSETTO:+0000
TZNAME:GMT
DTSTART:20201025T020000Z
RRULE:FREQ=YEARLY;BYMONTH=10;BYDAY=-1SU
END:STANDARD
END:VTIMEZONE
BEGIN:VEVENT
SUMMARY:Рейд статика Firefly
DTSTAMP:20200217T131143Z
SEQUENCE:1
UID:6696-1-afb15bc42254ad5fb0481ce5e9c8144d@forum.bandits-clan.ru
ORGANIZER;CN="Alex_Stamm":web@bandits-clan.ru
DESCRIPTION:ИДЁМ В vMoL 
	  ПОЖАЛУЙСТА\
	, ПОДГОТОВЬТЕСЬ 
	К РЕЙДУ МАКСИМАЛЬ
	НО СЕРЬЕЗНО! Друзья\
	, если кого-то нет в
	 ротации\, это значит
	\, что вы будете там в
	 следующий раз. К сча
	стью\, у нас чуть б
	ольше 12 человек 
	в статике\, так
	 что мы можем
	 проводить ре
	гулярные рейды\
	, не собирая каж
	дый раз легионер
	ов по всему ТС. Пр
	ошу не обижаться и
	 не пропадать.\nСбо
	р в гильдхолле за
	 10 минут до начала
	 события.\nПРОШУ ВСЕХ ВСТУПИТЬ В
	 ДИСКОРД СООБЩЕСТВА BANDITS: | https://discor
	d.gg/C8GXHac | Найдите там м
	еня\, напишите\, 
	и вас добавят 
	в закрытый к
	анал статика. ЭТО ОБ
	ЯЗАТЕЛЬНО! РОТАЦИЯ И ПРОЧИЕ ДЕТАЛИ —
	 ТОЛЬКО В DISCORD!\n
DTSTART:20200219T180000Z
ATTENDEE;CN="Alex_Stamm";CUTYPE=INDIVIDUAL;PARTSTAT=ACCEPTED
	:web@bandits-clan.ru
ATTENDEE;CN="Reyesa";CUTYPE=INDIVIDUAL;PARTSTAT=ACCEPTED:web
	@bandits-clan.ru
ATTENDEE;CN="Murzilkin";CUTYPE=INDIVIDUAL;PARTSTAT=ACCEPTED:
	web@bandits-clan.ru
ATTENDEE;CN="Razfallo";CUTYPE=INDIVIDUAL;PARTSTAT=ACCEPTED:w
	eb@bandits-clan.ru
ATTENDEE;CN="Semeckiy ";CUTYPE=INDIVIDUAL;PARTSTAT=ACCEPTED:
	web@bandits-clan.ru
END:VEVENT
END:VCALENDAR
