BEGIN:VCALENDAR
VERSION:2.0
PRODID:-//InvisionCommunity Events 4.7.14//EN
METHOD:PUBLISH
CALSCALE:GREGORIAN
REFRESH-INTERVAL:PT15M
X-PUBLISHED-TTL:PT15M
X-WR-CALNAME:The Elder Scrolls Online
NAME:The Elder Scrolls Online
BEGIN:VTIMEZONE
TZID:Europe/London
TZURL:http://tzurl.org/zoneinfo/Europe/London
X-LIC-LOCATION:Europe/London
BEGIN:DAYLIGHT
TZOFFSETFROM:+0000
TZOFFSETTO:+0100
TZNAME:BST
DTSTART:20200329T020000Z
RRULE:FREQ=YEARLY;BYMONTH=3;BYDAY=-1SU
END:DAYLIGHT
BEGIN:STANDARD
TZOFFSETFROM:+0100
TZOFFSETTO:+0000
TZNAME:GMT
DTSTART:20201025T020000Z
RRULE:FREQ=YEARLY;BYMONTH=10;BYDAY=-1SU
END:STANDARD
END:VTIMEZONE
BEGIN:VEVENT
SUMMARY:20.00 [GW2] Поход на Strike missions
DTSTAMP:20200217T075432Z
SEQUENCE:0
UID:6695-1-afb15bc42254ad5fb0481ce5e9c8144d@forum.bandits-clan.ru
ORGANIZER;CN="Mr Dno":web@bandits-clan.ru
DESCRIPTION:Приглашаю на гильде
	йный ивент :    Поход по Strike мисс
	иям \nДата: 19.02.2020 (среда)\nВремя: 2
	0.00 мск\nУсловия: наличие TeamSpe
	ak\, 80 уровень\, экипировк
	а не ниже exotic по мете\
	, примерное знание ротации\, открыты 
	локации Grothmar Valley и Bjora Marches (или есть Telepor
	t to Friend).\nВнимание:
	 для получения дропа с сундуков
	 нужно иметь мастери Valor Essence Manipulati
	on 2 уровня.\n\nСписок Strike миссий:https://wiki.guildw
	a.../Strike_Mission Strike Mission: Shiverpeaks Pass Strike Mission: Whi
	sper of Jormag Fraenir of Jormag
DTSTART;VALUE=DATE:20200219
END:VEVENT
END:VCALENDAR
