BEGIN:VCALENDAR
VERSION:2.0
PRODID:-//InvisionCommunity Events 4.7.14//EN
METHOD:PUBLISH
CALSCALE:GREGORIAN
REFRESH-INTERVAL:PT15M
X-PUBLISHED-TTL:PT15M
X-WR-CALNAME:The Elder Scrolls Online
NAME:The Elder Scrolls Online
BEGIN:VTIMEZONE
TZID:Europe/London
TZURL:http://tzurl.org/zoneinfo/Europe/London
X-LIC-LOCATION:Europe/London
BEGIN:DAYLIGHT
TZOFFSETFROM:+0000
TZOFFSETTO:+0100
TZNAME:BST
DTSTART:20200329T020000Z
RRULE:FREQ=YEARLY;BYMONTH=3;BYDAY=-1SU
END:DAYLIGHT
BEGIN:STANDARD
TZOFFSETFROM:+0100
TZOFFSETTO:+0000
TZNAME:GMT
DTSTART:20201025T020000Z
RRULE:FREQ=YEARLY;BYMONTH=10;BYDAY=-1SU
END:STANDARD
END:VTIMEZONE
BEGIN:VEVENT
SUMMARY:[TESO] обучающий vetAS+0
DTSTAMP:20200216T080256Z
SEQUENCE:2
UID:6680-1-afb15bc42254ad5fb0481ce5e9c8144d@forum.bandits-clan.ru
ORGANIZER;CN="Neuro-Mancer":web@bandits-clan.ru
DESCRIPTION:Обучающий ветеран
	ский рейд в Асайлум Са
	нкториум+0 (AS+0)\, т.е мини
	-боссы убиваются по отд
	ельности. Сбор в 21.00 мск
	. Требуются 1 танка\
	, 2 хила\, 9 дд (Об
	язательна отметка о
	 прохождении нормал вер
	сии триала (мод DBGN)\, у дд
	 обязателен ДПС от
	 26к+)\, для прохож
	дения:\nУ танк
	а обязательно вменя
	емые танко-сеты и оп
	ыт танкования в в нормале.\
	nDLC - Заводной Город. При себ
	е иметь: TeamSpeak \, Табард\,
	 ремкомплекты\, е
	ду\, банки на ре
	сурсы. У мана 
	рендж дд нал
	ичие крашинг
	 шока обязательн
	о. Хилам иметь пу
	рж. Вампирам сброси
	ть стадию до 2ой.\nМоды для простот
	ы прохожденияч Code's Combat Alerts / RaidNotifier / Asylum S
	anctorium Status Panel\nВ комментария
	х указывайте свою роль и 
	id.\nCборы начинаются за
	 10-15 мин в гильд 
	холе\, мест
	а опоздавши
	х уйдут люб
	ому желающе
	му и подходя
	щему под тр
	ебования ре
	йда. Нажимаем кнопку«
	ПОЙДУ»! Набор в группу осуществляет
	ся по кнопке!
DTSTART:20200218T180000Z
ATTENDEE;CN="Neuro-Mancer";CUTYPE=INDIVIDUAL;PARTSTAT=ACCEPT
	ED:web@bandits-clan.ru
ATTENDEE;CN="Eddyst";CUTYPE=INDIVIDUAL;PARTSTAT=ACCEPTED:web
	@bandits-clan.ru
ATTENDEE;CN="Semeckiy ";CUTYPE=INDIVIDUAL;PARTSTAT=ACCEPTED:
	web@bandits-clan.ru
ATTENDEE;CN="Kandibobier";CUTYPE=INDIVIDUAL;PARTSTAT=ACCEPTE
	D:web@bandits-clan.ru
ATTENDEE;CN="Xapym";CUTYPE=INDIVIDUAL;PARTSTAT=ACCEPTED:web@
	bandits-clan.ru
ATTENDEE;CN="Reyesa";CUTYPE=INDIVIDUAL;PARTSTAT=ACCEPTED:web
	@bandits-clan.ru
ATTENDEE;CN="Less";CUTYPE=INDIVIDUAL;PARTSTAT=ACCEPTED:web@b
	andits-clan.ru
ATTENDEE;CN="Veerbat";CUTYPE=INDIVIDUAL;PARTSTAT=ACCEPTED:we
	b@bandits-clan.ru
ATTENDEE;CN="Spartak_88";CUTYPE=INDIVIDUAL;PARTSTAT=ACCEPTED
	:web@bandits-clan.ru
ATTENDEE;CN="TURBOPUMBA";CUTYPE=INDIVIDUAL;PARTSTAT=ACCEPTED
	:web@bandits-clan.ru
ATTENDEE;CN="howhooristory";CUTYPE=INDIVIDUAL;PARTSTAT=ACCEP
	TED:web@bandits-clan.ru
ATTENDEE;CN="BanditAsar";CUTYPE=INDIVIDUAL;PARTSTAT=ACCEPTED
	:web@bandits-clan.ru
ATTENDEE;CN="Undertaker83";CUTYPE=INDIVIDUAL;PARTSTAT=ACCEPT
	ED:web@bandits-clan.ru
END:VEVENT
END:VCALENDAR
