BEGIN:VCALENDAR
VERSION:2.0
PRODID:-//InvisionCommunity Events 4.7.14//EN
METHOD:PUBLISH
CALSCALE:GREGORIAN
REFRESH-INTERVAL:PT15M
X-PUBLISHED-TTL:PT15M
X-WR-CALNAME:The Elder Scrolls Online
NAME:The Elder Scrolls Online
BEGIN:VTIMEZONE
TZID:Europe/London
TZURL:http://tzurl.org/zoneinfo/Europe/London
X-LIC-LOCATION:Europe/London
BEGIN:DAYLIGHT
TZOFFSETFROM:+0000
TZOFFSETTO:+0100
TZNAME:BST
DTSTART:20200329T020000Z
RRULE:FREQ=YEARLY;BYMONTH=3;BYDAY=-1SU
END:DAYLIGHT
BEGIN:STANDARD
TZOFFSETFROM:+0100
TZOFFSETTO:+0000
TZNAME:GMT
DTSTART:20201025T020000Z
RRULE:FREQ=YEARLY;BYMONTH=10;BYDAY=-1SU
END:STANDARD
END:VTIMEZONE
BEGIN:VEVENT
SUMMARY:Рейд статика Firefly
DTSTAMP:20200214T121417Z
SEQUENCE:2
UID:6678-1-afb15bc42254ad5fb0481ce5e9c8144d@forum.bandits-clan.ru
ORGANIZER;CN="Alex_Stamm":web@bandits-clan.ru
DESCRIPTION:ИДЁМ В vMoL 
	        ПОЖ
	АЛУЙСТА\, ПОД
	ГОТОВЬТЕСЬ 
	К РЕЙДУ МАКСИМ
	АЛЬНО СЕРЬЕЗНО
	! У ВСЕХ ДОЛЖНЫ
	 БЫТЬ МЕТОВЫЕ СБ
	ОРКИ. ТАКЖЕ В РЕ
	ЙДЕ НУЖНЫ МИНИМУМ
	 ТРИ СТАМИНА ДД!Друзь
	я\, если кого-то нет
	 в ротации\, это знач
	ит\, что вы будете там
	 в следующий раз. К с
	частью\, у нас чуть
	 больше 12 челов
	ек в статике\, т
	ак что мы мож
	ем проводить 
	регулярные рейд
	ы\, не собирая ка
	ждый раз легионе
	ров по всему ТС. 
	Прошу не обижатьс
	я и не пропадать.\n
	Сбор в гильдхол
	ле за 10 минут 
	до начала соб
	ытия.\nУбедите
	льная прось
	ба уведомить в к
	омментариях\, ес
	ли вы не сможе
	те присутствовать!!!\nП
	РОШУ ВСЕХ ВСТУПИТЬ В ДИСКОРД СООБЩЕСТВА 
	BANDITS: | https://discord.gg/C8GXHac | Найдите т
	ам меня\, напиши
	те\, и вас добав
	ят в закрытый
	 канал статик
	а. ЭТО ОБЯЗАТ
	ЕЛЬНО! НАЧИ
	НАЯ СО СЛЕ
	ДУЮЩЕЙ НЕДЕЛИ РОТ
	АЦИЯ И ПРОЧИЕ ДЕТАЛИ БУ
	ДУТ ПУБЛИКОВАТЬСЯ ТОЛЬКО В DISCORD!\n 
	\nРОТАЦИЯ:\nТанки:\n@Murkin_Mur\n@Razfallo ​​​Хилы:
	\n@alex_spb\n@Elena_Hanemer ДД\n@Moxna-tka\n@Alex_Stamm\n@Kellariella\n
	@Neuro-Mancer\n@Aktarios\n@Semeckiy\n@buviGuvix\n@Ctpahhik
DTSTART:20200215T170000Z
ATTENDEE;CN="Alex_Stamm";CUTYPE=INDIVIDUAL;PARTSTAT=ACCEPTED
	:web@bandits-clan.ru
ATTENDEE;CN="Semeckiy ";CUTYPE=INDIVIDUAL;PARTSTAT=ACCEPTED:
	web@bandits-clan.ru
ATTENDEE;CN="Murzilkin";CUTYPE=INDIVIDUAL;PARTSTAT=ACCEPTED:
	web@bandits-clan.ru
ATTENDEE;CN="Razfallo";CUTYPE=INDIVIDUAL;PARTSTAT=ACCEPTED:w
	eb@bandits-clan.ru
END:VEVENT
END:VCALENDAR
