BEGIN:VCALENDAR
VERSION:2.0
PRODID:-//InvisionCommunity Events 4.7.14//EN
METHOD:PUBLISH
CALSCALE:GREGORIAN
REFRESH-INTERVAL:PT15M
X-PUBLISHED-TTL:PT15M
X-WR-CALNAME:The Elder Scrolls Online
NAME:The Elder Scrolls Online
BEGIN:VTIMEZONE
TZID:Europe/London
TZURL:http://tzurl.org/zoneinfo/Europe/London
X-LIC-LOCATION:Europe/London
BEGIN:DAYLIGHT
TZOFFSETFROM:+0000
TZOFFSETTO:+0100
TZNAME:BST
DTSTART:20200329T020000Z
RRULE:FREQ=YEARLY;BYMONTH=3;BYDAY=-1SU
END:DAYLIGHT
BEGIN:STANDARD
TZOFFSETFROM:+0100
TZOFFSETTO:+0000
TZNAME:GMT
DTSTART:20201025T020000Z
RRULE:FREQ=YEARLY;BYMONTH=10;BYDAY=-1SU
END:STANDARD
END:VTIMEZONE
BEGIN:VEVENT
SUMMARY:18.00 [GW2] Bounty run
DTSTAMP:20200213T221515Z
SEQUENCE:0
UID:6677-1-afb15bc42254ad5fb0481ce5e9c8144d@forum.bandits-clan.ru
ORGANIZER;CN="Mr Dno":web@bandits-clan.ru
DESCRIPTION:Приглашаю на гил
	ьдийный ивент:   Забе
	г по всем Bounty боссам (по всем табл
	ичкам) в локациях Crystal Oasis\, Desert Highlands\, Elon R
	iverlands и The Desolation.  Дата: 23.02.2020 (воскр
	есенье)\nВремя: 18.00 мск\nУсловия
	: наличие TeamSpeak\, 80 урове
	нь\, открыты WP н
	а указанных картах
	\, наличие маунтов раптора и кро
	лика. Список Bounty боссов: https://wiki.guildwa...com/wi
	ki/Bounty
DTSTART;VALUE=DATE:20200223
END:VEVENT
END:VCALENDAR
