BEGIN:VCALENDAR
VERSION:2.0
PRODID:-//InvisionCommunity Events 4.7.14//EN
METHOD:PUBLISH
CALSCALE:GREGORIAN
REFRESH-INTERVAL:PT15M
X-PUBLISHED-TTL:PT15M
X-WR-CALNAME:The Elder Scrolls Online
NAME:The Elder Scrolls Online
BEGIN:VTIMEZONE
TZID:Europe/London
TZURL:http://tzurl.org/zoneinfo/Europe/London
X-LIC-LOCATION:Europe/London
BEGIN:DAYLIGHT
TZOFFSETFROM:+0000
TZOFFSETTO:+0100
TZNAME:BST
DTSTART:20200329T020000Z
RRULE:FREQ=YEARLY;BYMONTH=3;BYDAY=-1SU
END:DAYLIGHT
BEGIN:STANDARD
TZOFFSETFROM:+0100
TZOFFSETTO:+0000
TZNAME:GMT
DTSTART:20201025T020000Z
RRULE:FREQ=YEARLY;BYMONTH=10;BYDAY=-1SU
END:STANDARD
END:VTIMEZONE
BEGIN:VEVENT
SUMMARY:21.30 [GW2] Рейд второклашек
DTSTAMP:20200213T220304Z
SEQUENCE:0
UID:6675-1-afb15bc42254ad5fb0481ce5e9c8144d@forum.bandits-clan.ru
ORGANIZER;CN="Mr Dno":web@bandits-clan.ru
DESCRIPTION:В воскресенье 16.02.2020 в 
	21.30 по МСК будет собр
	ан рейд 3 крыла.\nИ
	з требований\, т
	ерпение\, желан
	ие научиться\, ум
	ение слушать\, знание так
	тики на всех боссов и эвентов 3 крыла\, as
	cended armor + meta build + еда часа на 2
	-3\, умение ма
	ло говорить 
	или молчать прив
	етствуется (скорее в
	сего говорить буду мног
	о... и нудно... ). Если ест
	ь опыт - прекрасно\,
	 если его нет во
	все\, но есть жел
	ание и чар гот
	ов и умеете пр
	ожимать ротаци
	ю\, так это воо
	бще замечател
	ьно.\nИнформа
	цию по боссам и тактики можно най
	ти ютубе или официальной вики!
DTSTART;VALUE=DATE:20200216
END:VEVENT
END:VCALENDAR
