BEGIN:VCALENDAR
VERSION:2.0
PRODID:-//InvisionCommunity Events 4.7.14//EN
METHOD:PUBLISH
CALSCALE:GREGORIAN
REFRESH-INTERVAL:PT15M
X-PUBLISHED-TTL:PT15M
X-WR-CALNAME:The Elder Scrolls Online
NAME:The Elder Scrolls Online
BEGIN:VTIMEZONE
TZID:Europe/London
TZURL:http://tzurl.org/zoneinfo/Europe/London
X-LIC-LOCATION:Europe/London
BEGIN:DAYLIGHT
TZOFFSETFROM:+0000
TZOFFSETTO:+0100
TZNAME:BST
DTSTART:20200329T020000Z
RRULE:FREQ=YEARLY;BYMONTH=3;BYDAY=-1SU
END:DAYLIGHT
BEGIN:STANDARD
TZOFFSETFROM:+0100
TZOFFSETTO:+0000
TZNAME:GMT
DTSTART:20201025T020000Z
RRULE:FREQ=YEARLY;BYMONTH=10;BYDAY=-1SU
END:STANDARD
END:VTIMEZONE
BEGIN:VEVENT
SUMMARY:20.00 [GW2] Поход на Strike missions
DTSTAMP:20200213T215738Z
SEQUENCE:1
UID:6673-1-afb15bc42254ad5fb0481ce5e9c8144d@forum.bandits-clan.ru
ORGANIZER;CN="Mr Dno":web@bandits-clan.ru
DESCRIPTION:Приглашаю 
	на гильдейный ивент : 
	 Встреча одиноких сердец на Stri
	ke миссиях \nДата: 14.02.2020 (пятн
	ица)\nВремя: 20.00 мск\nУсловия: н
	аличие TeamSpeak\, 80 уровень\, э
	кипировка не ниже ex
	otic по мете\, примерное знание 
	ротации\, открыты локации Grothmar Valley и B
	jora Marches (или есть Teleport to Friend)
	.\nВнимание: для получе
	ния дропа с сундуков нужно иметь мастери
	 Vigilance Essence Manipulation 2 уровня. Список Strike
	 миссий:https://wiki.guildwa.../Strike_Mission Strike Mission: Shiv
	erpeaks Pass Strike Mission: Whisper of Jormag Weekly Strike Mission: Vo
	ice of the Fallen and Claw of the Fallen
DTSTART;VALUE=DATE:20200214
END:VEVENT
END:VCALENDAR
