BEGIN:VCALENDAR
VERSION:2.0
PRODID:-//InvisionCommunity Events 4.7.14//EN
METHOD:PUBLISH
CALSCALE:GREGORIAN
REFRESH-INTERVAL:PT15M
X-PUBLISHED-TTL:PT15M
X-WR-CALNAME:The Elder Scrolls Online
NAME:The Elder Scrolls Online
BEGIN:VTIMEZONE
TZID:Europe/London
TZURL:http://tzurl.org/zoneinfo/Europe/London
X-LIC-LOCATION:Europe/London
BEGIN:DAYLIGHT
TZOFFSETFROM:+0000
TZOFFSETTO:+0100
TZNAME:BST
DTSTART:20200329T020000Z
RRULE:FREQ=YEARLY;BYMONTH=3;BYDAY=-1SU
END:DAYLIGHT
BEGIN:STANDARD
TZOFFSETFROM:+0100
TZOFFSETTO:+0000
TZNAME:GMT
DTSTART:20201025T020000Z
RRULE:FREQ=YEARLY;BYMONTH=10;BYDAY=-1SU
END:STANDARD
END:VTIMEZONE
BEGIN:VEVENT
SUMMARY:Рейд статика Firefly
DTSTAMP:20200210T154251Z
SEQUENCE:2
UID:6669-1-afb15bc42254ad5fb0481ce5e9c8144d@forum.bandits-clan.ru
ORGANIZER;CN="Alex_Stamm":web@bandits-clan.ru
DESCRIPTION:ИДЁМ В vMoL 
	    ПОЖАЛУЙ
	СТА\, ПОДГОТО
	ВЬТЕСЬ К РЕ
	ЙДУ МАКСИМАЛ
	ЬНО СЕРЬЕЗНО!
	 У ВСЕХ ДОЛЖН
	Ы БЫТЬ МАКСИ
	МАЛЬНО МЕТОВЫЕ
	 СБОРКИ. ТАКЖЕ В 
	РЕЙДЕ НУЖНЫ МИНИМ
	УМ ТРИ СТАМИНА ДД!Др
	узья\, если кого-то 
	нет в ротации\, это
	 значит\, что вы бу
	дете там в следующи
	й раз. К счастью\, у н
	ас чуть больше 1
	2 человек в стати
	ке\, так что мы 
	можем провод
	ить регулярные
	 рейды\, не соби
	рая каждый раз 
	легионеров по в
	сему ТС. Прошу не 
	обижаться и не п
	ропадать.\nСбор в
	 гильдхолле за
	 10 минут до н
	ачала события
	.\nУбедительна
	я просьба уведо
	мить в комментар
	иях\, если вы не 
	сможете присутство
	вать!!!\nПРОШУ ВСЕХ ВСТУПИТЬ В ДИСК
	ОРД СООБЩЕСТВА BANDITS: | https://discord.gg/C
	8GXHac | Там вас добавя
	т в закрытый канал статик
	а. ЭТО ОБЯЗАТЕЛЬНО!\n \nРОТАЦИЯ:\nТ
	анки:\n@Murkin_Mur\n@Razfallo ​​​Хилы:\n@Dave2112\n@Elen
	a_Hanemer ДД\n@Moxna-tka\n@Alex_Stamm\n@Reyesa\n@Neuro-Mancer\n@Aktario
	s\n@Semeckiy\n@Hooris\n@buviGuvix
DTSTART:20200212T180000Z
ATTENDEE;CN="Alex_Stamm";CUTYPE=INDIVIDUAL;PARTSTAT=ACCEPTED
	:web@bandits-clan.ru
ATTENDEE;CN="Дэйф";CUTYPE=INDIVIDUAL;PARTSTAT=ACCEPTED:w
	eb@bandits-clan.ru
ATTENDEE;CN="elena_hanemer";CUTYPE=INDIVIDUAL;PARTSTAT=ACCEP
	TED:web@bandits-clan.ru
ATTENDEE;CN="buviGuvix";CUTYPE=INDIVIDUAL;PARTSTAT=ACCEPTED:
	web@bandits-clan.ru
ATTENDEE;CN="Semeckiy ";CUTYPE=INDIVIDUAL;PARTSTAT=ACCEPTED:
	web@bandits-clan.ru
ATTENDEE;CN="Murzilkin";CUTYPE=INDIVIDUAL;PARTSTAT=ACCEPTED:
	web@bandits-clan.ru
ATTENDEE;CN="Razfallo";CUTYPE=INDIVIDUAL;PARTSTAT=ACCEPTED:w
	eb@bandits-clan.ru
ATTENDEE;CN="Aktarios";CUTYPE=INDIVIDUAL;PARTSTAT=ACCEPTED:w
	eb@bandits-clan.ru
END:VEVENT
END:VCALENDAR
