BEGIN:VCALENDAR
VERSION:2.0
PRODID:-//InvisionCommunity Events 4.7.14//EN
METHOD:PUBLISH
CALSCALE:GREGORIAN
REFRESH-INTERVAL:PT15M
X-PUBLISHED-TTL:PT15M
X-WR-CALNAME:The Elder Scrolls Online
NAME:The Elder Scrolls Online
BEGIN:VTIMEZONE
TZID:Europe/London
TZURL:http://tzurl.org/zoneinfo/Europe/London
X-LIC-LOCATION:Europe/London
BEGIN:DAYLIGHT
TZOFFSETFROM:+0000
TZOFFSETTO:+0100
TZNAME:BST
DTSTART:20200329T020000Z
RRULE:FREQ=YEARLY;BYMONTH=3;BYDAY=-1SU
END:DAYLIGHT
BEGIN:STANDARD
TZOFFSETFROM:+0100
TZOFFSETTO:+0000
TZNAME:GMT
DTSTART:20201025T020000Z
RRULE:FREQ=YEARLY;BYMONTH=10;BYDAY=-1SU
END:STANDARD
END:VTIMEZONE
BEGIN:VEVENT
SUMMARY:Рейд статика Firefly
DTSTAMP:20200206T170516Z
SEQUENCE:2
UID:6645-1-afb15bc42254ad5fb0481ce5e9c8144d@forum.bandits-clan.ru
ORGANIZER;CN="Alex_Stamm":web@bandits-clan.ru
DESCRIPTION:ИДЁМ В vMoL 
	  ПОЖАЛУЙСТА
	\, ПОДГОТОВЬТЕ
	СЬ К РЕЙДУ МАК
	СИМАЛЬНО СЕРЬЕ
	ЗНО! У ВСЕХ ДО
	ЛЖНЫ БЫТЬ ЗОЛ
	ОТЫЕ ВЕЩИ (КРО
	МЕ БИЖУТЕРИИ)
	 И МАКСИМАЛЬНО
	 МЕТОВЫЕ СБОРКИ.
	 ТАКЖЕ В РЕЙДЕ НУ
	ЖНЫ МИНИМУМ ТРИ С
	ТАМИНА ДД!Друзья\, 
	если кого-то нет в
	 ротации\, это значит
	\, что вы будете там в
	 следующий раз. К сча
	стью\, у нас чуть б
	ольше 12 человек 
	в статике\, так
	 что мы можем
	 проводить ре
	гулярные рейды\
	, не собирая каж
	дый раз легионер
	ов по всему ТС. Пр
	ошу не обижаться и
	 не пропадать.\nСб
	ор в гильдхолле
	 за 10 минут до
	 начала событи
	я.\nУбедительн
	ая просьба уве
	домить в комментар
	иях\, если вы не сможете прис
	утствовать!!!\n \nРОТАЦИЯ:\nТанки:\n@Mur
	kin_Mur\n@Hoft ​​​Хилы:\n@Dave2112\n@Elena_Hanemer ДД\n@Moxn
	a-tka\n@Alex_Stamm\n@Reyesa\n@Neuro-Mancer\n@CTPAHHIK0\n@Aktarios\n@Hooris
	\n@Kellariella
DTSTART:20200208T170000Z
ATTENDEE;CN="Alex_Stamm";CUTYPE=INDIVIDUAL;PARTSTAT=ACCEPTED
	:web@bandits-clan.ru
ATTENDEE;CN="Дэйф";CUTYPE=INDIVIDUAL;PARTSTAT=ACCEPTED:w
	eb@bandits-clan.ru
ATTENDEE;CN="Ctpahhik";CUTYPE=INDIVIDUAL;PARTSTAT=ACCEPTED:w
	eb@bandits-clan.ru
ATTENDEE;CN="Moxna-tka";CUTYPE=INDIVIDUAL;PARTSTAT=ACCEPTED:
	web@bandits-clan.ru
ATTENDEE;CN="Aktarios";CUTYPE=INDIVIDUAL;PARTSTAT=ACCEPTED:w
	eb@bandits-clan.ru
ATTENDEE;CN="Reyesa";CUTYPE=INDIVIDUAL;PARTSTAT=ACCEPTED:web
	@bandits-clan.ru
ATTENDEE;CN="Hoft";CUTYPE=INDIVIDUAL;PARTSTAT=ACCEPTED:web@b
	andits-clan.ru
END:VEVENT
END:VCALENDAR
