BEGIN:VCALENDAR
VERSION:2.0
PRODID:-//InvisionCommunity Events 4.7.14//EN
METHOD:PUBLISH
CALSCALE:GREGORIAN
REFRESH-INTERVAL:PT15M
X-PUBLISHED-TTL:PT15M
X-WR-CALNAME:The Elder Scrolls Online
NAME:The Elder Scrolls Online
BEGIN:VTIMEZONE
TZID:Europe/London
TZURL:http://tzurl.org/zoneinfo/Europe/London
X-LIC-LOCATION:Europe/London
BEGIN:DAYLIGHT
TZOFFSETFROM:+0000
TZOFFSETTO:+0100
TZNAME:BST
DTSTART:20200329T020000Z
RRULE:FREQ=YEARLY;BYMONTH=3;BYDAY=-1SU
END:DAYLIGHT
BEGIN:STANDARD
TZOFFSETFROM:+0100
TZOFFSETTO:+0000
TZNAME:GMT
DTSTART:20201025T020000Z
RRULE:FREQ=YEARLY;BYMONTH=10;BYDAY=-1SU
END:STANDARD
END:VTIMEZONE
BEGIN:VEVENT
SUMMARY:[TESO] vMOL обучалка
DTSTAMP:20200206T105447Z
SEQUENCE:2
UID:6640-1-afb15bc42254ad5fb0481ce5e9c8144d@forum.bandits-clan.ru
ORGANIZER;CN="dreemspot":web@bandits-clan.ru
DESCRIPTION:В 14.00 по Москов
	скому времени. Приглаш
	аю 12 человек – 2 танк\
	, 2 хила\, 8 дд (Об
	язательна отметка о
	 прохождении нормал вер
	сии триала (мод DBGN)\, у дд обяз
	ателен ДПС от 26к+) в з
	вании Raider\, для прохождения три
	ала: Утроба Лорхаджа / Maw of Lorkh
	aj [vMoL] Необходимо DLC - Гильдия воро
	в / Thieves Guild. При себе иметь: T
	eamSpeak (хотя бы возможно
	сть слушать)\, Таб
	ард\, ремкомплект
	ы\, еду!\nДля на
	ибольшего у
	добства в осво
	ении контента\, советую за
	ранее установить такие моды как Bandits User In
	terface / Code's Combat Alerts / RaidNotifier. Дан
	ные моды по
	казывают ат
	аки боссов и
	 что нужно 
	делать в с
	лучае испо
	льзования их бо
	ссами. В коммен
	тариях указывайте
	 свою роль и игров
	ой id.\nНа событие прихо
	дите заранее\, сборы 
	начинаются за 10-15 
	мин. до назначе
	нного времени\,
	 в противном сл
	учае\, ваше ме
	сто уйдет др
	угому желающем
	у. Так же не з
	абывайте на
	жимать на кноп
	ку «ПОЙДУ»! Набор 
	в группу осуществляется по кнопке
	\, в порядке очереди!
DTSTART:20200208T110000Z
ATTENDEE;CN="dreemspot";CUTYPE=INDIVIDUAL;PARTSTAT=ACCEPTED:
	web@bandits-clan.ru
ATTENDEE;CN="Eddyst";CUTYPE=INDIVIDUAL;PARTSTAT=ACCEPTED:web
	@bandits-clan.ru
ATTENDEE;CN="Solar";CUTYPE=INDIVIDUAL;PARTSTAT=ACCEPTED:web@
	bandits-clan.ru
ATTENDEE;CN="EnotShow";CUTYPE=INDIVIDUAL;PARTSTAT=ACCEPTED:w
	eb@bandits-clan.ru
ATTENDEE;CN="miZZerix";CUTYPE=INDIVIDUAL;PARTSTAT=ACCEPTED:w
	eb@bandits-clan.ru
ATTENDEE;CN="Semeckiy ";CUTYPE=INDIVIDUAL;PARTSTAT=ACCEPTED:
	web@bandits-clan.ru
ATTENDEE;CN="BadassLoaderBot";CUTYPE=INDIVIDUAL;PARTSTAT=ACC
	EPTED:web@bandits-clan.ru
ATTENDEE;CN="Fantagero";CUTYPE=INDIVIDUAL;PARTSTAT=ACCEPTED:
	web@bandits-clan.ru
ATTENDEE;CN="DeArt";CUTYPE=INDIVIDUAL;PARTSTAT=ACCEPTED:web@
	bandits-clan.ru
ATTENDEE;CN="Kandibobier";CUTYPE=INDIVIDUAL;PARTSTAT=ACCEPTE
	D:web@bandits-clan.ru
ATTENDEE;CN="Don_KiHoT";CUTYPE=INDIVIDUAL;PARTSTAT=ACCEPTED:
	web@bandits-clan.ru
ATTENDEE;CN="crockez";CUTYPE=INDIVIDUAL;PARTSTAT=ACCEPTED:we
	b@bandits-clan.ru
END:VEVENT
END:VCALENDAR
