BEGIN:VCALENDAR
VERSION:2.0
PRODID:-//InvisionCommunity Events 4.7.14//EN
METHOD:PUBLISH
CALSCALE:GREGORIAN
REFRESH-INTERVAL:PT15M
X-PUBLISHED-TTL:PT15M
X-WR-CALNAME:The Elder Scrolls Online
NAME:The Elder Scrolls Online
BEGIN:VTIMEZONE
TZID:Europe/London
TZURL:http://tzurl.org/zoneinfo/Europe/London
X-LIC-LOCATION:Europe/London
BEGIN:DAYLIGHT
TZOFFSETFROM:+0000
TZOFFSETTO:+0100
TZNAME:BST
DTSTART:20200329T020000Z
RRULE:FREQ=YEARLY;BYMONTH=3;BYDAY=-1SU
END:DAYLIGHT
BEGIN:STANDARD
TZOFFSETFROM:+0100
TZOFFSETTO:+0000
TZNAME:GMT
DTSTART:20201025T020000Z
RRULE:FREQ=YEARLY;BYMONTH=10;BYDAY=-1SU
END:STANDARD
END:VTIMEZONE
BEGIN:VEVENT
SUMMARY:[TESO] обучающий hmHRC
DTSTAMP:20200202T053755Z
SEQUENCE:2
UID:6628-1-afb15bc42254ad5fb0481ce5e9c8144d@forum.bandits-clan.ru
ORGANIZER;CN="Neuro-Mancer":web@bandits-clan.ru
DESCRIPTION:Обучающий рейд в ветеранский Hel Ra
	 Citadel hard mode (hmHRC). Сбор в 20.00 мск. Т
	ребуются 2 танка\, 
	2 хила\, 8 дд (Об
	язательна отметка о
	 прохождении нормал вер
	сии триала (мод DBGN)\, у дд
	 обязателен ДПС от
	 26к+)\, для прохож
	дения:\nУ тан
	ка обязател
	ьно вменяемые 
	танко-сеты и о
	пыт танкован
	ия в нормале и 
	желательно в в
	ете. Танк долж
	ен переживать се
	рию ударов\, когда в н
	его влетает очень большой 
	урон по 17-20к за раз. Т
	.е. 30-35к здоровь
	я на последнем боссе неп
	риемлемо. Хп можно разогнать сетами P
	lague Doctor + Ebon Armory. Хп у мейн тан
	ка должно быть на ласт
	 боссе 42-45+ и 25к+ р
	езистов под
	 баффами. Та
	ктика в хард
	 моде на пос
	леднем бос
	се радикально от
	личается от тактик
	и на нормале и ветеран
	ском режиме.\nDLC - не требуется
	. При себе иметь: TeamSpeak \
	, Табард\, ремкомпле
	кты\, еду\, банки 
	на ресурсы. У 
	мана рендж д
	д наличие кр
	ашинг шока 
	для второго
	 босса сверх
	у и прерыва
	ния кастов магов
	 на последнем боссе. Моды для 
	простоты прохожденияч Code's Combat Alerts / RaidNotif
	ier / Hodor Reflexes для мони
	торинга ульт и д
	пс\nВ комментария
	х указывайте свою 
	роль и id. Рейд о
	бучающий с от
	метками\, т.е
	. пркдпочтен
	ие будет отд
	аваться тем 
	кто подходит
	 под требова
	ния рейда но не им
	еющий отметку о прох
	ождении. Cборы начи
	наются за 10-15 ми
	н в гильд хол
	е\, места оп
	оздавших у
	йдут любом
	у желающему
	 и подходяще
	му под треб
	ования рейд
	а. Нажимаем кнопку«ПО
	ЙДУ»! Набор в группу осуществляется 
	по кнопке! \n
DTSTART:20200206T170000Z
ATTENDEE;CN="Neuro-Mancer";CUTYPE=INDIVIDUAL;PARTSTAT=ACCEPT
	ED:web@bandits-clan.ru
ATTENDEE;CN="VladRevenant";CUTYPE=INDIVIDUAL;PARTSTAT=ACCEPT
	ED:web@bandits-clan.ru
ATTENDEE;CN="Дэйф";CUTYPE=INDIVIDUAL;PARTSTAT=ACCEPTED:w
	eb@bandits-clan.ru
ATTENDEE;CN="Ctpahhik";CUTYPE=INDIVIDUAL;PARTSTAT=ACCEPTED:w
	eb@bandits-clan.ru
ATTENDEE;CN="Nazuron";CUTYPE=INDIVIDUAL;PARTSTAT=ACCEPTED:we
	b@bandits-clan.ru
ATTENDEE;CN="bonart";CUTYPE=INDIVIDUAL;PARTSTAT=ACCEPTED:web
	@bandits-clan.ru
ATTENDEE;CN="Aktarios";CUTYPE=INDIVIDUAL;PARTSTAT=ACCEPTED:w
	eb@bandits-clan.ru
ATTENDEE;CN="Spartak_88";CUTYPE=INDIVIDUAL;PARTSTAT=ACCEPTED
	:web@bandits-clan.ru
ATTENDEE;CN="Canis";CUTYPE=INDIVIDUAL;PARTSTAT=ACCEPTED:web@
	bandits-clan.ru
ATTENDEE;CN="elena_hanemer";CUTYPE=INDIVIDUAL;PARTSTAT=ACCEP
	TED:web@bandits-clan.ru
ATTENDEE;CN="Kandibobier";CUTYPE=INDIVIDUAL;PARTSTAT=ACCEPTE
	D:web@bandits-clan.ru
ATTENDEE;CN="TURBOPUMBA";CUTYPE=INDIVIDUAL;PARTSTAT=ACCEPTED
	:web@bandits-clan.ru
ATTENDEE;CN="Zveruxa";CUTYPE=INDIVIDUAL;PARTSTAT=ACCEPTED:we
	b@bandits-clan.ru
END:VEVENT
END:VCALENDAR
