BEGIN:VCALENDAR
VERSION:2.0
PRODID:-//InvisionCommunity Events 4.7.14//EN
METHOD:PUBLISH
CALSCALE:GREGORIAN
REFRESH-INTERVAL:PT15M
X-PUBLISHED-TTL:PT15M
X-WR-CALNAME:The Elder Scrolls Online
NAME:The Elder Scrolls Online
BEGIN:VTIMEZONE
TZID:Europe/London
TZURL:http://tzurl.org/zoneinfo/Europe/London
X-LIC-LOCATION:Europe/London
BEGIN:DAYLIGHT
TZOFFSETFROM:+0000
TZOFFSETTO:+0100
TZNAME:BST
DTSTART:20200329T020000Z
RRULE:FREQ=YEARLY;BYMONTH=3;BYDAY=-1SU
END:DAYLIGHT
BEGIN:STANDARD
TZOFFSETFROM:+0100
TZOFFSETTO:+0000
TZNAME:GMT
DTSTART:20201025T020000Z
RRULE:FREQ=YEARLY;BYMONTH=10;BYDAY=-1SU
END:STANDARD
END:VTIMEZONE
BEGIN:VEVENT
SUMMARY:[TESO] Сборный рейд АС+2 (хм)
DTSTAMP:20200129T091446Z
SEQUENCE:0
UID:6599-1-afb15bc42254ad5fb0481ce5e9c8144d@forum.bandits-clan.ru
ORGANIZER;CN="Epmak":web@bandits-clan.ru
DESCRIPTION:Танк1 - Киберт +\nТанк2 - Юр
	икон +\nХил1(фронт кайт) - dreemspot +\nХил2
	(бек кайт) - epmak +\nдд1 - делириос +\n
	дд2 - аквел+\nдд3 - эксела+\nдд4 -
	 йонкер+\nдд5 - макабр+\nдд6 - неумеха+\nдд7 - dv
	eller+\nдд8 - hooris+
DTSTART:20200131T150000Z
END:VEVENT
END:VCALENDAR
