BEGIN:VCALENDAR
VERSION:2.0
PRODID:-//InvisionCommunity Events 4.7.14//EN
METHOD:PUBLISH
CALSCALE:GREGORIAN
REFRESH-INTERVAL:PT15M
X-PUBLISHED-TTL:PT15M
X-WR-CALNAME:The Elder Scrolls Online
NAME:The Elder Scrolls Online
BEGIN:VTIMEZONE
TZID:Europe/London
TZURL:http://tzurl.org/zoneinfo/Europe/London
X-LIC-LOCATION:Europe/London
BEGIN:DAYLIGHT
TZOFFSETFROM:+0000
TZOFFSETTO:+0100
TZNAME:BST
DTSTART:20200329T020000Z
RRULE:FREQ=YEARLY;BYMONTH=3;BYDAY=-1SU
END:DAYLIGHT
BEGIN:STANDARD
TZOFFSETFROM:+0100
TZOFFSETTO:+0000
TZNAME:GMT
DTSTART:20201025T020000Z
RRULE:FREQ=YEARLY;BYMONTH=10;BYDAY=-1SU
END:STANDARD
END:VTIMEZONE
BEGIN:VEVENT
SUMMARY:[TESO] ПВП Сиродиил  \"Arena Gladiator's Proofs\"
DTSTAMP:20200128T120014Z
SEQUENCE:0
UID:6595-1-afb15bc42254ad5fb0481ce5e9c8144d@forum.bandits-clan.ru
ORGANIZER;CN="Anioto":web@bandits-clan.ru
DESCRIPTION:--- «Захв
	атить дев
	ять разли
	чных ресурсо
	в» — различных
	 объектов снаб
	жения\, контролир
	уемых врагом. --- 
	Во время забега 
	находится в ТимСп
	ике (\"Обязательно
	\" для того что бы у
	слышать команду\
	, и вовремя слин
	ять от врага ) но
	 и не забываем 
	про Табард гильдии. Бег
	аем --- За Ковенант Даггерфол\n
	Компания --Bahlokdaan--\nЛе
	вел 10+ шмотки по своему усмотрению
	 жестких правил нету
DTSTART:20200128T160200Z
END:VEVENT
END:VCALENDAR
