BEGIN:VCALENDAR
VERSION:2.0
PRODID:-//InvisionCommunity Events 4.7.14//EN
METHOD:PUBLISH
CALSCALE:GREGORIAN
REFRESH-INTERVAL:PT15M
X-PUBLISHED-TTL:PT15M
X-WR-CALNAME:The Elder Scrolls Online
NAME:The Elder Scrolls Online
BEGIN:VTIMEZONE
TZID:Europe/London
TZURL:http://tzurl.org/zoneinfo/Europe/London
X-LIC-LOCATION:Europe/London
BEGIN:DAYLIGHT
TZOFFSETFROM:+0000
TZOFFSETTO:+0100
TZNAME:BST
DTSTART:20200329T020000Z
RRULE:FREQ=YEARLY;BYMONTH=3;BYDAY=-1SU
END:DAYLIGHT
BEGIN:STANDARD
TZOFFSETFROM:+0100
TZOFFSETTO:+0000
TZNAME:GMT
DTSTART:20201025T020000Z
RRULE:FREQ=YEARLY;BYMONTH=10;BYDAY=-1SU
END:STANDARD
END:VTIMEZONE
BEGIN:VEVENT
SUMMARY:[TESO] PVP Партизаны Магнуса
DTSTAMP:20200124T030436Z
SEQUENCE:1
UID:6575-1-afb15bc42254ad5fb0481ce5e9c8144d@forum.bandits-clan.ru
ORGANIZER;CN="k111a":web@bandits-clan.ru
DESCRIPTION:Всем приве
	т.\nПриглашаю
	 всех желающи
	х группой побегат
	ь в ПвП локациях. Т
	ребования к персонажа
	м:\n- 10 уровень\n- комплект 
	брони с особенностью impene
	trable План действий: в 16-
	00 мск\nвстречаемся
	 в ТС (как за 10 минут установить
	 тимспик написано тут http://forum.bandits...
	showtopic=32624 или есть ви
	део в ютубе)\nгол
	осуем за приоритеты
	 по направлениям (Сир
	одил\, БГ\, Имперка)\
	nидём туда\, куда захоте
	ли\, бить лица врага
	м или получать лю
	лей\n18-00 - формальное о
	кончание события Тема событий на форуме
	: http://forum.bandits...showtopic=69420
DTSTART:20200125T130000Z
ATTENDEE;CN="Aristotel_1";CUTYPE=INDIVIDUAL;PARTSTAT=ACCEPTE
	D:web@bandits-clan.ru
END:VEVENT
END:VCALENDAR
