BEGIN:VCALENDAR
VERSION:2.0
PRODID:-//InvisionCommunity Events 4.7.14//EN
METHOD:PUBLISH
CALSCALE:GREGORIAN
REFRESH-INTERVAL:PT15M
X-PUBLISHED-TTL:PT15M
X-WR-CALNAME:The Elder Scrolls Online
NAME:The Elder Scrolls Online
BEGIN:VTIMEZONE
TZID:Europe/London
TZURL:http://tzurl.org/zoneinfo/Europe/London
X-LIC-LOCATION:Europe/London
BEGIN:DAYLIGHT
TZOFFSETFROM:+0000
TZOFFSETTO:+0100
TZNAME:BST
DTSTART:20200329T020000Z
RRULE:FREQ=YEARLY;BYMONTH=3;BYDAY=-1SU
END:DAYLIGHT
BEGIN:STANDARD
TZOFFSETFROM:+0100
TZOFFSETTO:+0000
TZNAME:GMT
DTSTART:20201025T020000Z
RRULE:FREQ=YEARLY;BYMONTH=10;BYDAY=-1SU
END:STANDARD
END:VTIMEZONE
BEGIN:VEVENT
SUMMARY:[TESO] PVP Партизаны Магнуса
DTSTAMP:20200122T093925Z
SEQUENCE:2
UID:6567-1-afb15bc42254ad5fb0481ce5e9c8144d@forum.bandits-clan.ru
ORGANIZER;CN="k111a":web@bandits-clan.ru
DESCRIPTION:Всем прив
	ет.\nПригла
	шаю всех ж
	елающих состави
	ть компанию партиз
	анам. Требования к 
	персонажам: \n- 10 уровень\n-
	 комплект брони с особенност
	ью impenetrable План действий: в 
	16-00 мск\nвстречаемс
	я в ТС (как за 10 минут установи
	ть тимспик написано тут http://forum.bandits-clan.ru/i
	ndex.php?showtopic=32624 или есть вид
	ео в ютубе)\nзнак
	омимся\, так как
	 это первое соб
	ытие\nобознача
	ю кратко о фор
	мате в целом 
	и текущие задач
	и\nсчитаемся\nголосу
	ем за приоритеты по
	 направлениям (ЧП\, 
	нон ЧП\, БГ\, Импе
	рка)\nвыдвигае
	мся в разведку
	 искать\, в к
	аких направлен
	иях больше всего в
	рагов в наш предп
	олагаемый прайм-т
	айм\n18-00 - формальное окончани
	е события Тема на форуме: http://forum.bandits-clan.r
	u/index.php?showtopic=69420
DTSTART:20200123T130000Z
ATTENDEE;CN="k111a";CUTYPE=INDIVIDUAL;PARTSTAT=ACCEPTED:web@
	bandits-clan.ru
ATTENDEE;CN="Kroval";CUTYPE=INDIVIDUAL;PARTSTAT=ACCEPTED:web
	@bandits-clan.ru
END:VEVENT
END:VCALENDAR
