BEGIN:VCALENDAR
VERSION:2.0
PRODID:-//InvisionCommunity Events 4.7.14//EN
METHOD:PUBLISH
CALSCALE:GREGORIAN
REFRESH-INTERVAL:PT15M
X-PUBLISHED-TTL:PT15M
X-WR-CALNAME:The Elder Scrolls Online
NAME:The Elder Scrolls Online
BEGIN:VTIMEZONE
TZID:Europe/London
TZURL:http://tzurl.org/zoneinfo/Europe/London
X-LIC-LOCATION:Europe/London
BEGIN:DAYLIGHT
TZOFFSETFROM:+0000
TZOFFSETTO:+0100
TZNAME:BST
DTSTART:20200329T020000Z
RRULE:FREQ=YEARLY;BYMONTH=3;BYDAY=-1SU
END:DAYLIGHT
BEGIN:STANDARD
TZOFFSETFROM:+0100
TZOFFSETTO:+0000
TZNAME:GMT
DTSTART:20201025T020000Z
RRULE:FREQ=YEARLY;BYMONTH=10;BYDAY=-1SU
END:STANDARD
END:VTIMEZONE
BEGIN:VEVENT
SUMMARY:[TESO] обучающий nAS
DTSTAMP:20200120T045414Z
SEQUENCE:2
UID:6561-1-afb15bc42254ad5fb0481ce5e9c8144d@forum.bandits-clan.ru
ORGANIZER;CN="Neuro-Mancer":web@bandits-clan.ru
DESCRIPTION:Учебный триал нормал A
	sylum Sanctorium. минимальные т
	ребования: 160 чп\, 
	наличие гильд 
	табарда.\nСбо
	р по записи.
	 Не пришедщи
	х во время буду 
	заменять записа
	вшимися позднее 
	или из гильд чата
	.\nТе\, кто не и
	меет отметк
	и о прохожден
	ии обучлки буд
	ут иметь приор
	итет над теми
	 кто имеет. при 
	наличии записи в три
	ал у претендентов. Т
	ребование 1 танк. 2 хи
	ла. 9 дд.\nТанк с вмен
	яемым танк гиром\,
	 для новичков и вы
	ше.\nс собой взять еду 
	и банки на ресурсы (
	мана или стамина) сбор за
	 5-10 минут до начала рейд
	а в гильд холе (20:00 
	мск). Для тех к
	то никогда т
	ам небыл - о
	знакомиться
	 с обучающим в
	идео \n Для по
	дтверждения нажи
	маем кнопку пойду (
	 в правом верхнем у
	глу) и пишем + роль
	 в сообщениях\
	, что бы не искать кто когда
	 записался в неотсортированном списке.
DTSTART:20200121T170000Z
ATTENDEE;CN="Neuro-Mancer";CUTYPE=INDIVIDUAL;PARTSTAT=ACCEPT
	ED:web@bandits-clan.ru
ATTENDEE;CN="Nick Name";CUTYPE=INDIVIDUAL;PARTSTAT=ACCEPTED:
	web@bandits-clan.ru
ATTENDEE;CN="Slayserak555";CUTYPE=INDIVIDUAL;PARTSTAT=ACCEPT
	ED:web@bandits-clan.ru
ATTENDEE;CN="Larisa";CUTYPE=INDIVIDUAL;PARTSTAT=ACCEPTED:web
	@bandits-clan.ru
ATTENDEE;CN="k111a";CUTYPE=INDIVIDUAL;PARTSTAT=ACCEPTED:web@
	bandits-clan.ru
ATTENDEE;CN="Sousthar";CUTYPE=INDIVIDUAL;PARTSTAT=ACCEPTED:w
	eb@bandits-clan.ru
ATTENDEE;CN="Sergey13";CUTYPE=INDIVIDUAL;PARTSTAT=ACCEPTED:w
	eb@bandits-clan.ru
ATTENDEE;CN="Moxna-tka";CUTYPE=INDIVIDUAL;PARTSTAT=ACCEPTED:
	web@bandits-clan.ru
ATTENDEE;CN="Aktarios";CUTYPE=INDIVIDUAL;PARTSTAT=ACCEPTED:w
	eb@bandits-clan.ru
ATTENDEE;CN="Stonechump";CUTYPE=INDIVIDUAL;PARTSTAT=ACCEPTED
	:web@bandits-clan.ru
ATTENDEE;CN="Mbsm1989";CUTYPE=INDIVIDUAL;PARTSTAT=ACCEPTED:w
	eb@bandits-clan.ru
END:VEVENT
END:VCALENDAR
