BEGIN:VCALENDAR
VERSION:2.0
PRODID:-//InvisionCommunity Events 4.7.14//EN
METHOD:PUBLISH
CALSCALE:GREGORIAN
REFRESH-INTERVAL:PT15M
X-PUBLISHED-TTL:PT15M
X-WR-CALNAME:The Elder Scrolls Online
NAME:The Elder Scrolls Online
BEGIN:VTIMEZONE
TZID:Europe/London
TZURL:http://tzurl.org/zoneinfo/Europe/London
X-LIC-LOCATION:Europe/London
BEGIN:DAYLIGHT
TZOFFSETFROM:+0000
TZOFFSETTO:+0100
TZNAME:BST
DTSTART:20200329T020000Z
RRULE:FREQ=YEARLY;BYMONTH=3;BYDAY=-1SU
END:DAYLIGHT
BEGIN:STANDARD
TZOFFSETFROM:+0100
TZOFFSETTO:+0000
TZNAME:GMT
DTSTART:20201025T020000Z
RRULE:FREQ=YEARLY;BYMONTH=10;BYDAY=-1SU
END:STANDARD
END:VTIMEZONE
BEGIN:VEVENT
SUMMARY:[TESO] Группа [Dungeons Achievements]
DTSTAMP:20200119T235209Z
SEQUENCE:0
UID:6556-1-afb15bc42254ad5fb0481ce5e9c8144d@forum.bandits-clan.ru
ORGANIZER;CN="Zendux":web@bandits-clan.ru
DESCRIPTION:@RichardSypher - DD\n@elnadrion - Tank\n@Zendux - Heal \n@Ak
	tarios - DD \nЗапись 
	на подобное м
	ероприятие происходит за
	ранее.\nЗаписаться вы можете в теме http://for
	um.bandits-clan.ru/index.php?showtopic=69272&amp\;st=0&amp\;p=1169418
DTSTART:20200122T130000Z
END:VEVENT
END:VCALENDAR
