BEGIN:VCALENDAR
VERSION:2.0
PRODID:-//InvisionCommunity Events 4.7.14//EN
METHOD:PUBLISH
CALSCALE:GREGORIAN
REFRESH-INTERVAL:PT15M
X-PUBLISHED-TTL:PT15M
X-WR-CALNAME:The Elder Scrolls Online
NAME:The Elder Scrolls Online
BEGIN:VTIMEZONE
TZID:Europe/London
TZURL:http://tzurl.org/zoneinfo/Europe/London
X-LIC-LOCATION:Europe/London
BEGIN:DAYLIGHT
TZOFFSETFROM:+0000
TZOFFSETTO:+0100
TZNAME:BST
DTSTART:20200329T020000Z
RRULE:FREQ=YEARLY;BYMONTH=3;BYDAY=-1SU
END:DAYLIGHT
BEGIN:STANDARD
TZOFFSETFROM:+0100
TZOFFSETTO:+0000
TZNAME:GMT
DTSTART:20201025T020000Z
RRULE:FREQ=YEARLY;BYMONTH=10;BYDAY=-1SU
END:STANDARD
END:VTIMEZONE
BEGIN:VEVENT
SUMMARY:[TESO] Ветеранский триал Свят
	илище Офидии (vSO)
DTSTAMP:20200119T210344Z
SEQUENCE:1
UID:6552-1-afb15bc42254ad5fb0481ce5e9c8144d@forum.bandits-clan.ru
ORGANIZER;CN="DemGruim ":web@bandits-clan.ru
DESCRIPTION:Давно не ходили
	 в Санктум Офидию (
	vSO) – го повесели
	мся и покажем вредном
	у троллю\, где раки зиму
	ют!\nНачало события в 21:
	30 по Мск. Приходит
	е за 10 минут д
	о начала\, чт
	обы собрать
	ся быстрее. Це
	ли нашего путе
	шествия:\n■ отоб
	рать у ласта зо
	лотую бижу\;\n
	■ полутать
	 урночки\, ящи
	чки и прочие в
	местилища ранд
	омных интересны
	х штуковин\;\n■ сет
	ы\, если кому-н
	ибудь что-нибу
	дь ещё нужно со
	брать\;\n■ крис
	таллики тран
	смутации\;\n■ 
	повеселиться
	\, провести вре
	мя в приятной 
	компании\, пол
	учить удоволь
	ствие от игры.  
	Требования:\n► д
	ля танков: вла
	дение своей ро
	лью\, наличие алк
	оша\, умение апт
	аймить дебафы и р
	егенить свои рес
	ы\;\n► для хилов:
	 владение своей
	 ролью\, наличи
	е олоримки и 
	мастер-рестро
	-посоха\, умение
	 снабжать свою
	 группу ресурсами\,
	 аптаймить бафы\, хи
	лить не только группу
	\, но и себя\;\n► для дд: вл
	адение своей ролью\, д
	пс 25К + (чем выше\, те
	м больше вероят
	ности\, что буд
	ем делать хард
	мод)\, умение вы
	ходить из аоеш
	ек и оперативн
	о ресать своих 
	товарищей\;\n► д
	ля всех: спосо
	бность слышать и
	 слушать РЛа\, и с
	амое главное — наличие ч
	увства юмора  \;\n► звание в г
	ильдии от Thief/Soldier и выш
	е (подробнее о зван
	иях здесь)\;\n► табард (под
	робнее о том\, что это такое
	 здесь)\;\n► TeamSpeak (подр
	обнее о нём здес
	ь)\;\n► комментарий 
	в этом событии с 
	указанием роли и
	 игрового ID\, ес
	ли он отличает
	ся от ника на
	 форуме. Обр
	атите вниман
	ие: если вы п
	ришли с оп
	озданием – в
	аше место мо
	жет занять лю
	бой желающий и
	з гильдейског
	о чата.\nЭто г
	ильдейское со
	бытие\, поэто
	му – в указан
	ное время соб
	ираемся в тимс
	пике\, надевае
	м табарды\, г
	руппируемся в
	 гильдхолле и летим в триал побеж
	дать всех боссов.\nДо встречи! 
DTSTART:20200123T183000Z
END:VEVENT
END:VCALENDAR
