BEGIN:VCALENDAR
VERSION:2.0
PRODID:-//InvisionCommunity Events 4.7.14//EN
METHOD:PUBLISH
CALSCALE:GREGORIAN
REFRESH-INTERVAL:PT15M
X-PUBLISHED-TTL:PT15M
X-WR-CALNAME:The Elder Scrolls Online
NAME:The Elder Scrolls Online
BEGIN:VTIMEZONE
TZID:Europe/London
TZURL:http://tzurl.org/zoneinfo/Europe/London
X-LIC-LOCATION:Europe/London
BEGIN:DAYLIGHT
TZOFFSETFROM:+0000
TZOFFSETTO:+0100
TZNAME:BST
DTSTART:20200329T020000Z
RRULE:FREQ=YEARLY;BYMONTH=3;BYDAY=-1SU
END:DAYLIGHT
BEGIN:STANDARD
TZOFFSETFROM:+0100
TZOFFSETTO:+0000
TZNAME:GMT
DTSTART:20201025T020000Z
RRULE:FREQ=YEARLY;BYMONTH=10;BYDAY=-1SU
END:STANDARD
END:VTIMEZONE
BEGIN:VEVENT
SUMMARY:[TESO] Тройное достижение (Группа 1)
DTSTAMP:20200117T115238Z
SEQUENCE:0
UID:6546-1-afb15bc42254ad5fb0481ce5e9c8144d@forum.bandits-clan.ru
ORGANIZER;CN="Zendux":web@bandits-clan.ru
DESCRIPTION:@RichardSypher - DD\n@elnadrion - Tank\n@Zendux - Heal\n@Akt
	arios - DD \nЗапись предварительно через тем
	у\n\nhttp://forum.bandits...showtopic=69272	\nЗа
	пись предварительно через тему	\n\nhttp://forum
	.bandits...showtopic=69272
DTSTART:20200117T130000Z
DTEND:20200117T160000Z
END:VEVENT
END:VCALENDAR
