BEGIN:VCALENDAR
VERSION:2.0
PRODID:-//InvisionCommunity Events 4.7.14//EN
METHOD:PUBLISH
CALSCALE:GREGORIAN
REFRESH-INTERVAL:PT15M
X-PUBLISHED-TTL:PT15M
X-WR-CALNAME:The Elder Scrolls Online
NAME:The Elder Scrolls Online
BEGIN:VTIMEZONE
TZID:Europe/London
TZURL:http://tzurl.org/zoneinfo/Europe/London
X-LIC-LOCATION:Europe/London
BEGIN:DAYLIGHT
TZOFFSETFROM:+0000
TZOFFSETTO:+0100
TZNAME:BST
DTSTART:20200329T020000Z
RRULE:FREQ=YEARLY;BYMONTH=3;BYDAY=-1SU
END:DAYLIGHT
BEGIN:STANDARD
TZOFFSETFROM:+0100
TZOFFSETTO:+0000
TZNAME:GMT
DTSTART:20201025T020000Z
RRULE:FREQ=YEARLY;BYMONTH=10;BYDAY=-1SU
END:STANDARD
END:VTIMEZONE
BEGIN:VEVENT
SUMMARY:[TESO] Фармовый триал nCR
DTSTAMP:20200117T062637Z
SEQUENCE:0
UID:6545-1-afb15bc42254ad5fb0481ce5e9c8144d@forum.bandits-clan.ru
ORGANIZER;CN="DemGruim ":web@bandits-clan.ru
DESCRIPTION:Приглаш
	аю всех желающих 
	пофармить норма
	л-версию триала Кл
	аудрест (nCR).\nСде
	лаем нескол
	ько заходов\,
	 можно разным
	и персами.\n
	Ориентиров
	очная продо
	лжительность 1 ча
	с (при слаженности 
	группы нормал проносится 
	за 10-15 минут).\nНачало 
	события в 12:30 по МСК. Для
	 прохождения нам нужны: 1 
	танк\, 2 хила и 9 дд. Требовани
	я: ► 160 чп\;\n► звание в гиль
	дии Thief/Soldier (подробнее
	 о званиях здесь)\;\n►
	 табард (подробнее о том\, ч
	то это такое здесь)\;\n► Tea
	mSpeak (подробнее о 
	нём здесь)\;\n► наличие п
	одписки или дополнения
	 «Саммерсет» (Summerset)
	\;\n► комментарий в 
	этом событии с ук
	азанием роли и иг
	рового ID\, если
	 он отличаетс
	я от ника на
	 форуме. Что и
	нтересного можно получить
	 в этом триале: ■ полезные сеты:\nArms 
	of Relequen (для стам-дд)\;\nVestment of Olorime (для хил
	ов)\;\nMantle of Siroria (для мана-дд
	)\;\n■ 5 кристалл
	ов трансмутац
	ии\;\n■ весело 
	проведённое 
	время   Обрат
	ите внимание:
	 если вы приш
	ли с опозда
	нием – ваше м
	есто может за
	нять любой же
	лающий из гиль
	дейского чата
	.\nВ указанное 
	время собира
	емся в тимспике
	\, надеваем таб
	арды\, группир
	уемся в гильдх
	олле —\nи летим
	 в триал побежда
	ть всех боссов и отбирать у них нужные н
	ам сеты.\nДо встречи!
DTSTART:20200119T093000Z
ATTENDEE;CN="DemGruim ";CUTYPE=INDIVIDUAL;PARTSTAT=ACCEPTED:
	web@bandits-clan.ru
ATTENDEE;CN="Eddyst";CUTYPE=INDIVIDUAL;PARTSTAT=ACCEPTED:web
	@bandits-clan.ru
ATTENDEE;CN="Sousthar";CUTYPE=INDIVIDUAL;PARTSTAT=ACCEPTED:w
	eb@bandits-clan.ru
ATTENDEE;CN="RichiFromHell";CUTYPE=INDIVIDUAL;PARTSTAT=ACCEP
	TED:web@bandits-clan.ru
ATTENDEE;CN="Slayserak555";CUTYPE=INDIVIDUAL;PARTSTAT=ACCEPT
	ED:web@bandits-clan.ru
ATTENDEE;CN="Слава нск";CUTYPE=INDIVIDUAL;PARTSTAT=A
	CCEPTED:web@bandits-clan.ru
ATTENDEE;CN="DAK";CUTYPE=INDIVIDUAL;PARTSTAT=ACCEPTED:web@ba
	ndits-clan.ru
ATTENDEE;CN="Murzilkin";CUTYPE=INDIVIDUAL;PARTSTAT=ACCEPTED:
	web@bandits-clan.ru
END:VEVENT
END:VCALENDAR
