BEGIN:VCALENDAR
VERSION:2.0
PRODID:-//InvisionCommunity Events 4.7.14//EN
METHOD:PUBLISH
CALSCALE:GREGORIAN
REFRESH-INTERVAL:PT15M
X-PUBLISHED-TTL:PT15M
X-WR-CALNAME:The Elder Scrolls Online
NAME:The Elder Scrolls Online
BEGIN:VTIMEZONE
TZID:Europe/London
TZURL:http://tzurl.org/zoneinfo/Europe/London
X-LIC-LOCATION:Europe/London
BEGIN:DAYLIGHT
TZOFFSETFROM:+0000
TZOFFSETTO:+0100
TZNAME:BST
DTSTART:20200329T020000Z
RRULE:FREQ=YEARLY;BYMONTH=3;BYDAY=-1SU
END:DAYLIGHT
BEGIN:STANDARD
TZOFFSETFROM:+0100
TZOFFSETTO:+0000
TZNAME:GMT
DTSTART:20201025T020000Z
RRULE:FREQ=YEARLY;BYMONTH=10;BYDAY=-1SU
END:STANDARD
END:VTIMEZONE
BEGIN:VEVENT
SUMMARY:[TESO] Ветеранские триалы Краглорн
	а (AA\, HRC\, SO)
DTSTAMP:20200113T093046Z
SEQUENCE:2
UID:6527-1-afb15bc42254ad5fb0481ce5e9c8144d@forum.bandits-clan.ru
ORGANIZER;CN="DemGruim ":web@bandits-clan.ru
DESCRIPTION:Приглаша
	ю всех жел
	ающих повесел
	иться и побегать вместе п
	о ветеранским триалам Краглорна 
	(vAA\, vHRC\, vSO).\nНачало события в 2
	1:30 по Мск.\nСходи
	м ли во все т
	ри триала ил
	и ограничим
	ся двумя – з
	ависит от наше
	й скорости пр
	охождения.\nЕс
	ли соберётся опыт
	ный состав\, то сдел
	аем хардмод (двойн
	ая бижа и +10К го
	лды!). Цели наше
	го путешестви
	я:\n■ пофармить з
	олотую бижу на 
	заточки\;\n■ 
	полутать у
	рночки\, ящич
	ки и прочие вм
	естилища рандо
	мных интересных
	 штуковин\;\n■ сеты
	\, если кому-ни
	будь что-нибудь
	 ещё нужно собрат
	ь\;\n■ кристаллики 
	трансмутации для т
	ех\, кто не ходит в 
	пвп\, а трейтить 
	ещё много всяко
	го\;\n■ повесел
	иться\, прове
	сти время в 
	приятной комп
	ании\, получит
	ь удовольствие 
	от игры.  Требо
	вания:\n► для та
	нков: владение 
	своей ролью\, 
	наличие алкоша\
	, умение аптайми
	ть дебафы и реген
	ить свои ресы\;\n
	► для хилов: 
	владение своей
	 ролью\, наличи
	е олоримки и 
	мастер-рестро
	-посоха\, умение
	 снабжать свою
	 группу ресурсами\,
	 аптаймить бафы\, хи
	лить не только группу
	\, но и себя\;\n► для дд: вл
	адение своей ролью\, д
	пс 25К + (чем выше\, те
	м больше вероят
	ности\, что буд
	ем делать хард
	мод)\, умение вы
	ходить из аоеш
	ек и оперативн
	о ресать своих 
	товарищей\;\n► д
	ля всех: спосо
	бность слышать и
	 слушать РЛа\, и с
	амое главное — наличие ч
	увства юмора  \;\n► звание в г
	ильдии от Thief/Soldier и выш
	е (подробнее о зван
	иях здесь)\;\n► табард (под
	робнее о том\, что это такое
	 здесь)\;\n► TeamSpeak (подр
	обнее о нём здес
	ь)\;\n► комментарий 
	в этом событии с 
	указанием роли и и
	грового ID\, если 
	он отличается о
	т ника на форум
	е. \nОбратите 
	внимание: ес
	ли вы пришли
	 с опоздани
	ем – ваше мес
	то может зан
	ять любой жел
	ающий из гиль
	дейского чата
	.\nЭто гильдей
	ское событие\
	, поэтому – в у
	казанное врем
	я собираемся в
	 тимспике\, над
	еваем табарды
	\, группируемся 
	в гильдхолле и летим в триал по
	беждать всех боссов.\nДо встречи! 
DTSTART:20200116T183000Z
ATTENDEE;CN="Zym";CUTYPE=INDIVIDUAL;PARTSTAT=ACCEPTED:web@ba
	ndits-clan.ru
ATTENDEE;CN="Semeckiy ";CUTYPE=INDIVIDUAL;PARTSTAT=ACCEPTED:
	web@bandits-clan.ru
ATTENDEE;CN="DemGruim ";CUTYPE=INDIVIDUAL;PARTSTAT=ACCEPTED:
	web@bandits-clan.ru
ATTENDEE;CN="Дэйф";CUTYPE=INDIVIDUAL;PARTSTAT=ACCEPTED:w
	eb@bandits-clan.ru
ATTENDEE;CN="Zendux";CUTYPE=INDIVIDUAL;PARTSTAT=ACCEPTED:web
	@bandits-clan.ru
ATTENDEE;CN="Eddyst";CUTYPE=INDIVIDUAL;PARTSTAT=ACCEPTED:web
	@bandits-clan.ru
ATTENDEE;CN="Neuro-Mancer";CUTYPE=INDIVIDUAL;PARTSTAT=ACCEPT
	ED:web@bandits-clan.ru
ATTENDEE;CN="#ifndef";CUTYPE=INDIVIDUAL;PARTSTAT=ACCEPTED:we
	b@bandits-clan.ru
ATTENDEE;CN="Moxna-tka";CUTYPE=INDIVIDUAL;PARTSTAT=ACCEPTED:
	web@bandits-clan.ru
ATTENDEE;CN="MrMinys";CUTYPE=INDIVIDUAL;PARTSTAT=ACCEPTED:we
	b@bandits-clan.ru
ATTENDEE;CN="Canis";CUTYPE=INDIVIDUAL;PARTSTAT=ACCEPTED:web@
	bandits-clan.ru
ATTENDEE;CN="Razfallo";CUTYPE=INDIVIDUAL;PARTSTAT=ACCEPTED:w
	eb@bandits-clan.ru
ATTENDEE;CN="Niklaus96";CUTYPE=INDIVIDUAL;PARTSTAT=ACCEPTED:
	web@bandits-clan.ru
END:VEVENT
END:VCALENDAR
